BEGIN:VCALENDAR
VERSION:2.0
PRODID:-//Godoy Cruz - ECPv4.5.8.1//NONSGML v1.0//EN
CALSCALE:GREGORIAN
METHOD:PUBLISH
X-WR-CALNAME:Godoy Cruz
X-ORIGINAL-URL:https://www.godoycruz.sisargentina.com
X-WR-CALDESC:Events for Godoy Cruz
BEGIN:VEVENT
DTSTART;TZID=UTC-3:20190427T100000
DTEND;TZID=UTC-3:20190427T100000
DTSTAMP:20260424T191857
CREATED:20190416T170908Z
LAST-MODIFIED:20190416T170908Z
UID:58585-1556359200-1556359200@www.godoycruz.sisargentina.com
SUMMARY:II Feria Del Autor y del Libro
DESCRIPTION:[vc_row][vc_column][vc_column_text]Presentación de libros de autores locales\, nacionales e internacionales. \nDesde las 10:00. \nPlaza Departamental: exposición y venta de libros de la Editorial Equinoxio \nB+M (Tomba 54). 18:30. Cierre con el Grupo Folklórico “Huella de los Andes”.[/vc_column_text][/vc_column][/vc_row][vc_row][vc_column][vc_single_image image=»58586″ img_size=»full»][/vc_column][/vc_row] \n
URL:https://www.godoycruz.sisargentina.com/evento/ii-feria-del-autor-del-libro-2/
LOCATION:Tomba 54\, Godoy Cruz\, Mendoza\, 5501\, Argentina
ATTACH;FMTTYPE=image/jpeg:https://www.godoycruz.sisargentina.com/wp-content/uploads/2019/04/WhatsApp-Image-2019-04-16-at-11.13.40.jpeg
END:VEVENT
END:VCALENDAR