BEGIN:VCALENDAR
VERSION:2.0
PRODID:-//Godoy Cruz - ECPv4.5.8.1//NONSGML v1.0//EN
CALSCALE:GREGORIAN
METHOD:PUBLISH
X-WR-CALNAME:Godoy Cruz
X-ORIGINAL-URL:https://www.godoycruz.sisargentina.com
X-WR-CALDESC:Events for Godoy Cruz
BEGIN:VEVENT
DTSTART;TZID=UTC-3:20190630T203000
DTEND;TZID=UTC-3:20190630T203000
DTSTAMP:20260424T161312
CREATED:20190622T181624Z
LAST-MODIFIED:20190622T181624Z
UID:60212-1561926600-1561926600@www.godoycruz.sisargentina.com
SUMMARY:“Homenaje a Mariano Mores”
DESCRIPTION:[vc_row][vc_column][vc_column_text]Espectáculo musical en vivo. Gran milonga de cierre. \nArtistas: \nOrquesta San Vicente. Integrantes: Gonzalo Tohme (bandoneón); Elda Pineda (violín); Esteban Pérez (contrabajo) y Miguel Pineda (flauta). \nPiano\, arreglos y dirección musical: Mario Galván \nVoces: Susana Jerez y Enzo De Lucca. \nBailarines: integrantes del Ballet Municipal de Godoy Cruz. \nEntradas en venta en la boletería del teatro (Colón 27).[/vc_column_text][/vc_column][/vc_row][vc_row][vc_column][vc_single_image image=»60213″ img_size=»full»][/vc_column][/vc_row] \n
URL:https://www.godoycruz.sisargentina.com/evento/homenaje-mariano-mores/
LOCATION:Colón 27\, Godoy Cruz\, Mendoza\, 5501\, Argentina
ATTACH;FMTTYPE=image/jpeg:https://www.godoycruz.sisargentina.com/wp-content/uploads/2019/06/WhatsApp-Image-2019-06-19-at-13.30.46.jpeg
END:VEVENT
END:VCALENDAR