BEGIN:VCALENDAR
VERSION:2.0
PRODID:-//Godoy Cruz - ECPv4.5.8.1//NONSGML v1.0//EN
CALSCALE:GREGORIAN
METHOD:PUBLISH
X-WR-CALNAME:Godoy Cruz
X-ORIGINAL-URL:https://www.godoycruz.sisargentina.com
X-WR-CALDESC:Events for Godoy Cruz
BEGIN:VEVENT
DTSTART;TZID=UTC-3:20171118T220000
DTEND;TZID=UTC-3:20171118T220000
DTSTAMP:20260425T222849
CREATED:20171109T155922Z
LAST-MODIFIED:20171109T155922Z
UID:43971-1511042400-1511042400@www.godoycruz.sisargentina.com
SUMMARY:Historias de Diván
DESCRIPTION:[vc_row][vc_column][vc_column_text]Producción privada \nBasada en el libro homónimo de Gabriel Rolón.[/vc_column_text][/vc_column][/vc_row][vc_row][vc_column][vc_single_image image=»43969″ img_size=»full»][/vc_column][/vc_row] \n
URL:https://www.godoycruz.sisargentina.com/evento/historias-de-divan/
LOCATION:Colón 27\, Godoy Cruz\, Mendoza\, 5501\, Argentina
ATTACH;FMTTYPE=image/jpeg:https://www.godoycruz.sisargentina.com/wp-content/uploads/2017/11/Historias-de-Diván.jpg
END:VEVENT
END:VCALENDAR