BEGIN:VCALENDAR
VERSION:2.0
PRODID:-//Godoy Cruz - ECPv4.5.8.1//NONSGML v1.0//EN
CALSCALE:GREGORIAN
METHOD:PUBLISH
X-WR-CALNAME:Godoy Cruz
X-ORIGINAL-URL:https://www.godoycruz.sisargentina.com
X-WR-CALDESC:Events for Godoy Cruz
BEGIN:VEVENT
DTSTART;TZID=UTC-3:20220528T210000
DTEND;TZID=UTC-3:20220528T210000
DTSTAMP:20260422T042858
CREATED:20220528T020230Z
LAST-MODIFIED:20220528T020230Z
UID:89832-1653771600-1653771600@www.godoycruz.sisargentina.com
SUMMARY:Hernán Casciari en el Cine Teatro Plaza
DESCRIPTION:[vc_row][vc_column][vc_single_image image=»89833″ img_size=»full»][/vc_column][/vc_row][vc_row][vc_column][vc_column_text]Hernán Casciari llega al Teatro Plaza para presentar «Parece Mentira»\, su último espectáculo.[/vc_column_text][/vc_column][/vc_row] \n
URL:https://www.godoycruz.sisargentina.com/evento/hernan-casciari-cine-teatro-plaza/
LOCATION:Colon 27\, Godoy Cruz\, Mendoza\, Argentina
ATTACH;FMTTYPE=image/jpeg:https://www.godoycruz.sisargentina.com/wp-content/uploads/2022/05/11.jpeg
END:VEVENT
END:VCALENDAR