BEGIN:VCALENDAR
VERSION:2.0
PRODID:-//Godoy Cruz - ECPv4.5.8.1//NONSGML v1.0//EN
CALSCALE:GREGORIAN
METHOD:PUBLISH
X-WR-CALNAME:Godoy Cruz
X-ORIGINAL-URL:https://www.godoycruz.sisargentina.com
X-WR-CALDESC:Events for Godoy Cruz
BEGIN:VEVENT
DTSTART;TZID=UTC-3:20220612T163000
DTEND;TZID=UTC-3:20220612T163000
DTSTAMP:20260422T062058
CREATED:20220608T031554Z
LAST-MODIFIED:20220608T031554Z
UID:90131-1655051400-1655051400@www.godoycruz.sisargentina.com
SUMMARY:HABÍA UNA VEZ... EN LA CASA DE LA CULTURA Y LA MEMORIA
DESCRIPTION:[vc_row][vc_column][vc_column_text]Este domingo tenemos un nuevo encuentro del ciclo de títeres «Había una vez…» en la Casa de la Cultura y la Memoria. Obra: Polen un héroe hecho de flores del Elenco Kapaieie[/vc_column_text][/vc_column][/vc_row][vc_row][vc_column][vc_single_image image=»90132″ img_size=»full»][/vc_column][/vc_row] \n
URL:https://www.godoycruz.sisargentina.com/evento/habia-una-vez-la-casa-la-cultura-la-memoria/
LOCATION:Lavalle 88\, Godoy Cruz\, Mendoza (sólo Deptos. Capital\, Luján de Cuyo\, Las Heras\, Maipú\, Guaymallén\, Godoy Cruz\, Tunuyán y Tupungato)\, 5519\, Argentina
END:VEVENT
END:VCALENDAR