BEGIN:VCALENDAR
VERSION:2.0
PRODID:-//Godoy Cruz - ECPv4.5.8.1//NONSGML v1.0//EN
CALSCALE:GREGORIAN
METHOD:PUBLISH
X-WR-CALNAME:Godoy Cruz
X-ORIGINAL-URL:https://www.godoycruz.sisargentina.com
X-WR-CALDESC:Events for Godoy Cruz
BEGIN:VEVENT
DTSTART;TZID=UTC-3:20180818T153000
DTEND;TZID=UTC-3:20180818T153000
DTSTAMP:20260425T105506
CREATED:20180806T151659Z
LAST-MODIFIED:20180806T151659Z
UID:51631-1534606200-1534606200@www.godoycruz.sisargentina.com
SUMMARY:Gran Bingo Coro Cantapueblo
DESCRIPTION:[vc_row][vc_column][vc_column_text]Sorteos. Show musical en vivo. \nCentro de Jubilados 9 de abril (J.V. González 1982\, Godoy Cruz). \nEntradas: $150 (Incluye 2 cartones y media tarde). \nAnticipadas: 2615941924 y 2612090188[/vc_column_text][/vc_column][/vc_row][vc_row][vc_column][vc_single_image image=»51632″ img_size=»full»][/vc_column][/vc_row][vc_row][vc_column][vc_gmaps link=»#E-8_JTNDaWZyYW1lJTIwc3JjJTNEJTIyaHR0cHMlM0ElMkYlMkZ3d3cuZ29vZ2xlLmNvbSUyRm1hcHMlMkZlbWJlZCUzRnBiJTNEJTIxMW0xOCUyMTFtMTIlMjExbTMlMjExZDMzNDguMjEyOTQ0MDQxMTAzJTIxMmQtNjguODU4OTkzNjg1MTk4NDElMjEzZC0zMi45NDUzODY4ODA5MjE1MDQlMjEybTMlMjExZjAlMjEyZjAlMjEzZjAlMjEzbTIlMjExaTEwMjQlMjEyaTc2OCUyMTRmMTMuMSUyMTNtMyUyMTFtMiUyMTFzMHg5NjdlMGJjYjE3NDFkMjE3JTI1M0EweDdmNGU4MjdmZGRhMTEwY2YlMjEyc0NlbnRybyUyQmRlJTJCSnViaWxhZG9zJTJCOSUyQmRlJTJCQWJyaWwlMjE1ZTAlMjEzbTIlMjExc2VzLTQxOSUyMTJzYXIlMjE0djE1MzM1Njg0Mzc0MTAlMjIlMjB3aWR0aCUzRCUyMjQwMCUyMiUyMGhlaWdodCUzRCUyMjMwMCUyMiUyMGZyYW1lYm9yZGVyJTNEJTIyMCUyMiUyMHN0eWxlJTNEJTIyYm9yZGVyJTNBMCUyMiUyMGFsbG93ZnVsbHNjcmVlbiUzRSUzQyUyRmlmcmFtZSUzRQ==»][/vc_column][/vc_row] \n
URL:https://www.godoycruz.sisargentina.com/evento/gran-bingo-coro-cantapueblo-2/
ATTACH;FMTTYPE=image/jpeg:https://www.godoycruz.sisargentina.com/wp-content/uploads/2018/08/Bingo-Cantapueblo.jpg
END:VEVENT
END:VCALENDAR