BEGIN:VCALENDAR
VERSION:2.0
PRODID:-//Godoy Cruz - ECPv4.5.8.1//NONSGML v1.0//EN
CALSCALE:GREGORIAN
METHOD:PUBLISH
X-WR-CALNAME:Godoy Cruz
X-ORIGINAL-URL:https://www.godoycruz.sisargentina.com
X-WR-CALDESC:Events for Godoy Cruz
BEGIN:VEVENT
DTSTART;TZID=UTC-3:20241130T193000
DTEND;TZID=UTC-3:20241130T193000
DTSTAMP:20260421T104546
CREATED:20241126T134452Z
LAST-MODIFIED:20241128T152450Z
UID:118417-1732995000-1732995000@www.godoycruz.sisargentina.com
SUMMARY:Glorias del Este
DESCRIPTION:[vc_row][vc_column][vc_column_text]Con el fin de llevar la cultura y el arte a los clubes barriales de Godoy Cruz\, la comedia “Glorias del Este” tendrá una función especial en el histórico Club Social\, Cultural y Deportivo Agustín Álvarez. \nEsta producción narra la historia de Polo y Justino\, los únicos sobrevivientes de la comisión directiva de un modesto club. \nLos actores Anibal Villa y Marcelo Lacerna (“Rotos de amor”) encarnan a unos socios muy particulares que todos los días intentan sacar a flote la institución. \nInspirada en la obra original “Más muertos que vivos”\, de María Rosa Pfeiffer\, trata sobre dos amigos unidos por la pasión al club de sus amores y cuenta con la dirección de Daniel Posada. \nActúan: Marcelo Lacerna y Aníbal Villa. \nDirección: Daniel Posada. \nEntrada gratuita: Retirar entradas anticipadas en la administración del Club.[/vc_column_text][/vc_column][/vc_row][vc_row][vc_column][vc_single_image image=»118418″ img_size=»full»][/vc_column][/vc_row] \n
URL:https://www.godoycruz.sisargentina.com/evento/glorias-del-este1/
LOCATION:Argentina
ATTACH;FMTTYPE=image/jpeg:https://www.godoycruz.sisargentina.com/wp-content/uploads/2024/11/Imagen-de-WhatsApp-2024-11-19-a-las-10.40.06_4a8e86c7.jpg
END:VEVENT
END:VCALENDAR