BEGIN:VCALENDAR
VERSION:2.0
PRODID:-//Godoy Cruz - ECPv4.5.8.1//NONSGML v1.0//EN
CALSCALE:GREGORIAN
METHOD:PUBLISH
X-WR-CALNAME:Godoy Cruz
X-ORIGINAL-URL:https://www.godoycruz.sisargentina.com
X-WR-CALDESC:Events for Godoy Cruz
BEGIN:VEVENT
DTSTART;TZID=UTC-3:20230831T203000
DTEND;TZID=UTC-3:20230831T203000
DTSTAMP:20260420T234931
CREATED:20230828T161648Z
LAST-MODIFIED:20230828T161648Z
UID:102929-1693513800-1693513800@www.godoycruz.sisargentina.com
SUMMARY:Gin Sinfónico
DESCRIPTION:[vc_row][vc_column][vc_column_text]Concierto de la Orquesta Sinfónica de la Universidad Nacional de Cuyo. \nDirector: Tobias Volkmann \nPrograma:\nClaude Debussy: Preludio a la siesta de un fauno (Arr: B. Sachs).\nBela Bartok: Danzas Folclóricas Rumanas.\nNikos Skalkottas: Cinco danzas griegas para cuerdas.\nOttorino Respighi: Antiguas arias y danzas\, Suite n°3. \nEntrada gratuita (por orden de llegada) con una copa de Gin de cortesía.[/vc_column_text][/vc_column][/vc_row][vc_row][vc_column][vc_single_image image=»102930″ img_size=»full»][/vc_column][/vc_row] \n
URL:https://www.godoycruz.sisargentina.com/evento/gin-sinfonico/
ATTACH;FMTTYPE=image/jpeg:https://www.godoycruz.sisargentina.com/wp-content/uploads/2023/08/WhatsApp-Image-2023-08-28-at-12.59.06-PM.jpeg
END:VEVENT
END:VCALENDAR