BEGIN:VCALENDAR
VERSION:2.0
PRODID:-//Godoy Cruz - ECPv4.5.8.1//NONSGML v1.0//EN
CALSCALE:GREGORIAN
METHOD:PUBLISH
X-WR-CALNAME:Godoy Cruz
X-ORIGINAL-URL:https://www.godoycruz.sisargentina.com
X-WR-CALDESC:Events for Godoy Cruz
BEGIN:VEVENT
DTSTART;TZID=UTC-3:20240623T200000
DTEND;TZID=UTC-3:20240623T200000
DTSTAMP:20260420T134941
CREATED:20240621T175845Z
LAST-MODIFIED:20240621T175845Z
UID:111730-1719172800-1719172800@www.godoycruz.sisargentina.com
SUMMARY:Generación Rock
DESCRIPTION:[vc_row][vc_column][vc_column_text]Se viene un recital de la poderosa banda mendocina de Hard Rock Vikingos\, que esta preparando su nuevo disco\, “Viajeros del Oeste”. \nSobre el escenario sonará el grupo comandado por Alejandro Carbajal\, junto a Alvear Oeste y Darkangel\, en una noche demoledora. \nLas entradas se pueden obtener vía online en https://bit.ly/EntradasGeneraciónRock o en la boletería del teatro (Colón 27\, Godoy Cruz)\, de lunes a viernes de 9 a 15hs.[/vc_column_text][/vc_column][/vc_row][vc_row][vc_column][vc_single_image image=»111731″ img_size=»full»][/vc_column][/vc_row] \n
URL:https://www.godoycruz.sisargentina.com/evento/generacion-rock/
LOCATION:Colón 27\, Godoy Cruz\, Mendoza\, 5501\, Argentina
ATTACH;FMTTYPE=image/jpeg:https://www.godoycruz.sisargentina.com/wp-content/uploads/2024/06/448695100_790520799933498_7487783535003206223_n.jpg
END:VEVENT
END:VCALENDAR