BEGIN:VCALENDAR
VERSION:2.0
PRODID:-//Godoy Cruz - ECPv4.5.8.1//NONSGML v1.0//EN
CALSCALE:GREGORIAN
METHOD:PUBLISH
X-WR-CALNAME:Godoy Cruz
X-ORIGINAL-URL:https://www.godoycruz.sisargentina.com
X-WR-CALDESC:Events for Godoy Cruz
BEGIN:VEVENT
DTSTART;TZID=UTC-3:20230414T213000
DTEND;TZID=UTC-3:20230414T213000
DTSTAMP:20260421T111758
CREATED:20230330T145042Z
LAST-MODIFIED:20230330T145042Z
UID:98793-1681507800-1681507800@www.godoycruz.sisargentina.com
SUMMARY:Gárgolas
DESCRIPTION:[vc_row][vc_column][vc_column_text]Gárgolas narra la saga de dos jorobados errantes: él\, el jorobado amigable\, feo y puro\, trata de ser amable\, pero como un perro abandonado tiene miedo a los hombres.\nElla\, la joroba\, fea\, divertida e inteligente\, no entiende la opinión o la lógica de las personas. \nLa propuesta combina circo\, pantomima y el teatro grotesco junto a la sencillez de lo esencial\, permitiendo que tanto niños como adultos puedan disfrutarla. \nLas entradas se pueden obtener de manera online en  https://bit.ly/EntradasGargola  o en la boletería del teatro\, de lunes a sábado de 9 a 18hs.[/vc_column_text][/vc_column][/vc_row][vc_row][vc_column][vc_single_image image=»98794″ img_size=»full»][/vc_column][/vc_row] \n
URL:https://www.godoycruz.sisargentina.com/evento/gargolas/
LOCATION:Colón 27\, Godoy Cruz\, Mendoza\, 5501\, Argentina
ATTACH;FMTTYPE=image/jpeg:https://www.godoycruz.sisargentina.com/wp-content/uploads/2023/03/WhatsApp-Image-2023-03-27-at-1.08.42-PM.jpeg
END:VEVENT
END:VCALENDAR