BEGIN:VCALENDAR
VERSION:2.0
PRODID:-//Godoy Cruz - ECPv4.5.8.1//NONSGML v1.0//EN
CALSCALE:GREGORIAN
METHOD:PUBLISH
X-WR-CALNAME:Godoy Cruz
X-ORIGINAL-URL:https://www.godoycruz.sisargentina.com
X-WR-CALDESC:Events for Godoy Cruz
BEGIN:VEVENT
DTSTART;TZID=UTC-3:20230831T213000
DTEND;TZID=UTC-3:20230831T213000
DTSTAMP:20260421T013416
CREATED:20230822T153023Z
LAST-MODIFIED:20230822T153023Z
UID:102781-1693517400-1693517400@www.godoycruz.sisargentina.com
SUMMARY:Fogonera
DESCRIPTION:[vc_row][vc_column][vc_column_text]La cantante mendocina La Lucía presenta este encuentro\, que traslada el espíritu íntimo y despojado de los fogones al escenario. \nEs una invitación a un ritual poderoso y preciso que se va a generar entre todas las personas que asistan. \nInvitado espacial: Mogue (Miguel Canevari)\, de Buenos Aires. \nComprá tu entrada online en https://bit.ly/EntradasFogonera[/vc_column_text][/vc_column][/vc_row][vc_row][vc_column][vc_single_image image=»102782″ img_size=»full»][/vc_column][/vc_row] \n
URL:https://www.godoycruz.sisargentina.com/evento/fogonera/
LOCATION:Tomba 54\, Godoy Cruz\, Mendoza\, 5501\, Argentina
ATTACH;FMTTYPE=image/png:https://www.godoycruz.sisargentina.com/wp-content/uploads/2023/08/fogonerafeed2-1.png
END:VEVENT
END:VCALENDAR