BEGIN:VCALENDAR
VERSION:2.0
PRODID:-//Godoy Cruz - ECPv4.5.8.1//NONSGML v1.0//EN
CALSCALE:GREGORIAN
METHOD:PUBLISH
X-WR-CALNAME:Godoy Cruz
X-ORIGINAL-URL:https://www.godoycruz.sisargentina.com
X-WR-CALDESC:Events for Godoy Cruz
BEGIN:VEVENT
DTSTART;TZID=UTC-3:20230903T200000
DTEND;TZID=UTC-3:20230903T200000
DTSTAMP:20260421T032123
CREATED:20230824T175151Z
LAST-MODIFIED:20230824T175151Z
UID:102857-1693771200-1693771200@www.godoycruz.sisargentina.com
SUMMARY:El Flaco Pailos 40 Años de Shows
DESCRIPTION:[vc_row][vc_column][vc_column_text]El Flaco Pailos nos invita a festejar sus 40 años de trayectoria con un show imperdible\, donde muchos de los chistes\, cuentos e historias que escucharemos fueron pedidos por el público. \nAlgo de recuerdo y música con muchísimo humor será la premisa para este Flaco Pailos 40 años de Shows. \nAdquirí tu entrada de manera online en https://bit.ly/EntradasFlacoPailos o en la boletería del Teatro Plaza (solo en efectivo)\, de lunes a sábado de 9 a 18H.[/vc_column_text][/vc_column][/vc_row][vc_row][vc_column][vc_single_image image=»102858″ img_size=»full»][/vc_column][/vc_row] \n
URL:https://www.godoycruz.sisargentina.com/evento/flaco-pailos-40-anos-shows/
LOCATION:Colón 27\, Godoy Cruz\, Mendoza\, 5501\, Argentina
ATTACH;FMTTYPE=image/jpeg:https://www.godoycruz.sisargentina.com/wp-content/uploads/2023/08/369258048_634001702151992_5662145456984737270_n.jpg
END:VEVENT
END:VCALENDAR