BEGIN:VCALENDAR
VERSION:2.0
PRODID:-//Godoy Cruz - ECPv4.5.8.1//NONSGML v1.0//EN
CALSCALE:GREGORIAN
METHOD:PUBLISH
X-WR-CALNAME:Godoy Cruz
X-ORIGINAL-URL:https://www.godoycruz.sisargentina.com
X-WR-CALDESC:Events for Godoy Cruz
BEGIN:VEVENT
DTSTART;TZID=UTC-3:20230211T200000
DTEND;TZID=UTC-3:20230211T200000
DTSTAMP:20260421T142501
CREATED:20230208T141308Z
LAST-MODIFIED:20230208T141308Z
UID:97408-1676145600-1676145600@www.godoycruz.sisargentina.com
SUMMARY:Fiesta Tarantino
DESCRIPTION:[vc_row][vc_column][vc_column_text]Homenajeamos a uno de los directores más importantes del cine moderno\, Quentin Tarantino\, con la proyección de sus clásicos\, foodtrucks\, bandas en vivo y DJ. \nPresentación de la banda Chimangos. Proyección de la película “Pulp Fiction” (Tiempos violentos). \nActuación de DJ Gav\, DJ Lucca y VJ Andy. \nEspacio Arizu.[/vc_column_text][/vc_column][/vc_row][vc_row][vc_column][vc_single_image image=»97409″ img_size=»full»][/vc_column][/vc_row] \n
URL:https://www.godoycruz.sisargentina.com/evento/fiesta-tarantino/
ATTACH;FMTTYPE=image/jpeg:https://www.godoycruz.sisargentina.com/wp-content/uploads/2023/02/328094271_1232984144012593_764978894461283797_n.jpg
END:VEVENT
END:VCALENDAR