BEGIN:VCALENDAR
VERSION:2.0
PRODID:-//Godoy Cruz - ECPv4.5.8.1//NONSGML v1.0//EN
CALSCALE:GREGORIAN
METHOD:PUBLISH
X-WR-CALNAME:Godoy Cruz
X-ORIGINAL-URL:https://www.godoycruz.sisargentina.com
X-WR-CALDESC:Events for Godoy Cruz
BEGIN:VEVENT
DTSTART;TZID=UTC-3:20230212T200000
DTEND;TZID=UTC-3:20230212T200000
DTSTAMP:20260421T142513
CREATED:20230208T141930Z
LAST-MODIFIED:20230208T141930Z
UID:97412-1676232000-1676232000@www.godoycruz.sisargentina.com
SUMMARY:Fiesta Tarantino
DESCRIPTION:[vc_row][vc_column][vc_column_text]Homenajeamos a uno de los directores más importantes del cine moderno\, Quentin Tarantino\, con la proyección de sus clásicos\, foodtrucks\, bandas en vivo y DJ. \nPresentación de la banda The Tenedors. Proyección de la película “Reservoir Dogs” (Perros de la Calle). \nActuación de DJ Gav\, DJ Lucca y VJ Andy. \nEspacio Arizu.[/vc_column_text][/vc_column][/vc_row][vc_row][vc_column][vc_single_image image=»97413″ img_size=»full»][/vc_column][/vc_row] \n
URL:https://www.godoycruz.sisargentina.com/evento/fiesta-tarantino-2/
ATTACH;FMTTYPE=image/jpeg:https://www.godoycruz.sisargentina.com/wp-content/uploads/2023/02/328115429_1361067938081027_4121988905041984438_n.jpg
END:VEVENT
END:VCALENDAR