BEGIN:VCALENDAR
VERSION:2.0
PRODID:-//Godoy Cruz - ECPv4.5.8.1//NONSGML v1.0//EN
CALSCALE:GREGORIAN
METHOD:PUBLISH
X-WR-CALNAME:Godoy Cruz
X-ORIGINAL-URL:https://www.godoycruz.sisargentina.com
X-WR-CALDESC:Events for Godoy Cruz
BEGIN:VEVENT
DTSTART;TZID=UTC-3:20171001T000000
DTEND;TZID=UTC-3:20171001T000000
DTSTAMP:20260426T000746
CREATED:20170927T160848Z
LAST-MODIFIED:20170927T161327Z
UID:42338-1506816000-1506816000@www.godoycruz.sisargentina.com
SUMMARY:Fiesta de Confraternización de Brasil en Mendoza
DESCRIPTION:[vc_row][vc_column][vc_column_text]Música en vivo. Capoeira. Bailarines. Comidas típicas. \nLa entrada es gratuita y se solicita la colaboración con un alimento no perecedero (1kg)\, a beneficio de comedores infantiles.[/vc_column_text][/vc_column][/vc_row][vc_row][vc_column][vc_single_image image=»42339″ img_size=»full»][/vc_column][/vc_row] \n
URL:https://www.godoycruz.sisargentina.com/evento/fiesta-confraternizacion-brasil-mendoza/
LOCATION:Calle Biritos y Roque Sáenz Peña\, Godoy Cruz\, Argentina
ATTACH;FMTTYPE=image/jpeg:https://www.godoycruz.sisargentina.com/wp-content/uploads/2017/09/WEB-Fiesta-Confraternizac-NUEVO-1.jpg
END:VEVENT
END:VCALENDAR