BEGIN:VCALENDAR
VERSION:2.0
PRODID:-//Godoy Cruz - ECPv4.5.8.1//NONSGML v1.0//EN
CALSCALE:GREGORIAN
METHOD:PUBLISH
X-WR-CALNAME:Godoy Cruz
X-ORIGINAL-URL:https://www.godoycruz.sisargentina.com
X-WR-CALDESC:Events for Godoy Cruz
BEGIN:VEVENT
DTSTART;VALUE=DATE:20171027
DTEND;VALUE=DATE:20171027
DTSTAMP:20260426T013242
CREATED:20171025T131030Z
LAST-MODIFIED:20171025T174247Z
UID:43343-1509062400-1509148799@www.godoycruz.sisargentina.com
SUMMARY:Festival Provincial de Cine Mirada Oeste 2017
DESCRIPTION:[vc_row][vc_column width=»1/2″][vc_column_text]10:00 y 15:00. Cine para escuelas: Selección del Festival Internacional Ojo de pescado y Pequeñas miradas. Función para instituciones educativas primarias. Lugar: Cine Teatro Plaza (Colón 27). Entrada gratuita\, limitada a la capacidad de la sala. Inscripciones: Dirección de Cultura y Turismo de Godoy Cruz (0261-4133250).  [/vc_column_text][/vc_column][vc_column width=»1/2″][vc_single_image image=»43345″][/vc_column][/vc_row][vc_row][vc_column width=»1/2″][vc_column_text]20:00. Muestra de cortometrajes. A cargo de la Escuela Regional Cuyo de Cine y Video. Lugar: Auditorio de la B+M (Tomba 54). Entrada gratuita\, limitada a la capacidad de la sala. \n [/vc_column_text][/vc_column][vc_column width=»1/2″][vc_single_image image=»43425″][/vc_column][/vc_row][vc_row][vc_column width=»1/2″][vc_column_text]20:00. Proyección: “El pampero” (Uruguay/Francia/Argentina). 2017. Drama/Thriller. 77 min. +13. Director: Matías Lucchesi. Reparto: Germán de Silva\, Julio Chavez\, Pilar Gamboa\, César Troncoso. Lugar: Cine Teatro Plaza (Colón 27). Entrada gratuita\, limitada a la capacidad de la sala. \n [/vc_column_text][/vc_column][vc_column width=»1/2″][vc_single_image image=»43349″][/vc_column][/vc_row][vc_row][vc_column width=»1/2″][vc_column_text]21:00.Cine en el Museo. Proyección: “Road July” (Argentina). 2013. Road Movie. 88 min. ATP. Director: Gaspar Gómez. Reparto: Francisco Carrasco\, Federica Cafferata\, Mirta Busnelli\, Betiana Blum. Lugar: Domo Ferroviario (Av. del Trabajo y Panamericana).  Entrada gratuita\, limitada a la capacidad de la sala. \n [/vc_column_text][/vc_column][vc_column width=»1/2″][vc_single_image image=»43353″][/vc_column][/vc_row][vc_row][vc_column width=»1/2″][vc_column_text]22:00. Proyección: “El otro hermano” (Argentina). 2017. Drama/Thriller. 112 min. +18. Director: Israel Adrián Caetano. Reparto: Leonardo Sbaraglia\, Daniel Hendler\, Alian Devetac\, Max Berliner\, Pablo Cedrón. Lugar: Cine Teatro Plaza (Colón 27). Entrada gratuita\, limitada a la capacidad de la sala. \n [/vc_column_text][/vc_column][vc_column width=»1/2″][vc_single_image image=»43354″][/vc_column][/vc_row][vc_row][vc_column][vc_btn title=»Consultá la programación de toda la provincia haciendo click acá » style=»flat» color=»warning» link=»url:http%3A%2F%2Ffestivalmiradaoeste.com%2F||target:%20_blank|»][/vc_column][/vc_row] \n
URL:https://www.godoycruz.sisargentina.com/evento/festival-provincial-cine-mirada-oeste-2017/
ATTACH;FMTTYPE=image/jpeg:https://www.godoycruz.sisargentina.com/wp-content/uploads/2017/10/fondo-MO-1.jpg
END:VEVENT
END:VCALENDAR