BEGIN:VCALENDAR
VERSION:2.0
PRODID:-//Godoy Cruz - ECPv4.5.8.1//NONSGML v1.0//EN
CALSCALE:GREGORIAN
METHOD:PUBLISH
X-WR-CALNAME:Godoy Cruz
X-ORIGINAL-URL:https://www.godoycruz.sisargentina.com
X-WR-CALDESC:Events for Godoy Cruz
BEGIN:VEVENT
DTSTART;VALUE=DATE:20171102
DTEND;VALUE=DATE:20171102
DTSTAMP:20260425T223205
CREATED:20171025T152756Z
LAST-MODIFIED:20171025T175731Z
UID:43395-1509580800-1509667199@www.godoycruz.sisargentina.com
SUMMARY:Festival Provincial de Cine Mirada Oeste 2017
DESCRIPTION:[vc_row][vc_column width=»1/2″][vc_column_text]10:00 y 15:00. Cine para escuelas: Selección del Festival Internacional Ojo de pescado y Pequeñas miradas. Función para instituciones educativas primarias. Lugar: Cine Teatro Plaza (Colón 27).  Entrada gratuita\, limitada a la capacidad de la sala. Inscripciones: Dirección de Cultura y Turismo de Godoy Cruz (0261-4133250).  [/vc_column_text][/vc_column][vc_column width=»1/2″][vc_single_image image=»43345″][/vc_column][/vc_row][vc_row][vc_column width=»1/2″][vc_column_text]De 15:00 a 18:00. Capacitación: Charla / Taller de animación Stop Motion. Dictado por Carlos Montoya (Neuquén). Realizador audiovisual. Lugar: Auditorio de la B+M (Tomba 54). Informes e inscripciones: Dirección de Cultura y Turismo de Godoy Cruz (0261-4133250) o en www.festivalmiradaoeste.com/inscripción. Entrada gratuita. Cupos limitados: 60 personas. Se entregan certificados.[/vc_column_text][/vc_column][vc_column width=»1/2″][vc_single_image image=»43397″][/vc_column][/vc_row][vc_row][vc_column width=»1/2″][vc_column_text]20:00. Proyección: “La muerte de Marga Maier” (Argentina/Brasil). 2016. Thriller. 95 min. +16. Director: Camila Toker. Reparto: Mirta Busnelli\,  Ivo Müller\, Luis Machín\, Pilar Gamboa. Lugar: Cine Teatro Plaza (Colón 27).  Entrada gratuita\, limitada a la capacidad de la sala.[/vc_column_text][/vc_column][vc_column width=»1/2″][vc_single_image image=»43398″][/vc_column][/vc_row][vc_row][vc_column width=»1/2″][vc_column_text]22:00. Proyección: “No te olvides de mi” (Argentina). 2017. Drama. 84 min. ATP. Director: Fernanda Ramondo. Reparto: Leonardo Sbaraglia\, Cumelén Sanz. Santiago Saranite. Lugar: Cine Teatro Plaza (Colón 27). . Entrada gratuita\, limitada a la capacidad de la sala.[/vc_column_text][/vc_column][vc_column width=»1/2″][vc_single_image image=»43399″][/vc_column][/vc_row][vc_row][vc_column][vc_btn title=»Consultá la programación de toda la provincia haciendo click acá» style=»flat» color=»warning» link=»url:http%3A%2F%2Ffestivalmiradaoeste.com%2F||target:%20_blank|»][/vc_column][/vc_row] \n
URL:https://www.godoycruz.sisargentina.com/evento/festival-provincial-cine-mirada-oeste-2017-6/
ATTACH;FMTTYPE=image/jpeg:https://www.godoycruz.sisargentina.com/wp-content/uploads/2017/10/fondo-MO-1.jpg
END:VEVENT
END:VCALENDAR