BEGIN:VCALENDAR
VERSION:2.0
PRODID:-//Godoy Cruz - ECPv4.5.8.1//NONSGML v1.0//EN
CALSCALE:GREGORIAN
METHOD:PUBLISH
X-WR-CALNAME:Godoy Cruz
X-ORIGINAL-URL:https://www.godoycruz.sisargentina.com
X-WR-CALDESC:Events for Godoy Cruz
BEGIN:VEVENT
DTSTART;TZID=UTC-3:20171030T170000
DTEND;TZID=UTC-3:20171030T170000
DTSTAMP:20260425T223623
CREATED:20171025T143158Z
LAST-MODIFIED:20171025T175241Z
UID:43381-1509382800-1509382800@www.godoycruz.sisargentina.com
SUMMARY:Festival Provincial de Cine Mirada Oeste 2017
DESCRIPTION:[vc_row][vc_column width=»1/2″][vc_column_text]CUPOS AGOTADOS. De 17:00 a 20:00. Capacitación: Super 8 mm. Introducción a la cinematografía. Dictado por Anton Ion Leguiza (Mendoza). Director de fotografía. Dirigido a estudiantes\, profesionales de la fotografía y aficionados al cine. Lugar: Auditorio de la B+M (Tomba 54). . Informes e inscripciones: Dirección de Cultura y Turismo de Godoy Cruz (0261-4133250) o en www.festivalmiradaoeste.com/inscripción. Se entregan certificados.[/vc_column_text][/vc_column][vc_column width=»1/2″][vc_single_image image=»43382″][/vc_column][/vc_row][vc_row][vc_column][vc_btn title=»Consultá la programación de toda la provincia haciendo click acá» style=»flat» color=»warning» link=»url:http%3A%2F%2Ffestivalmiradaoeste.com%2F||target:%20_blank|»][/vc_column][/vc_row] \n
URL:https://www.godoycruz.sisargentina.com/evento/festival-provincial-cine-mirada-oeste-2017-4/
ATTACH;FMTTYPE=image/jpeg:https://www.godoycruz.sisargentina.com/wp-content/uploads/2017/10/fondo-MO-1.jpg
END:VEVENT
END:VCALENDAR