BEGIN:VCALENDAR
VERSION:2.0
PRODID:-//Godoy Cruz - ECPv4.5.8.1//NONSGML v1.0//EN
CALSCALE:GREGORIAN
METHOD:PUBLISH
X-WR-CALNAME:Godoy Cruz
X-ORIGINAL-URL:https://www.godoycruz.sisargentina.com
X-WR-CALDESC:Events for Godoy Cruz
BEGIN:VEVENT
DTSTART;VALUE=DATE:20171029
DTEND;VALUE=DATE:20171029
DTSTAMP:20260426T024247
CREATED:20171025T141536Z
LAST-MODIFIED:20171025T175025Z
UID:43370-1509235200-1509321599@www.godoycruz.sisargentina.com
SUMMARY:Festival Provincial de Cine Mirada Oeste 2017
DESCRIPTION:[vc_row][vc_column width=»1/2″][vc_column_text]16:00 – Cine infantil. Proyección: “Guardianes de Oz” (México). 2015. Animación/Aventuras. 86 min. ATP. Director: Alberto mar. Lugar: Cine Teatro Plaza (Colón 27). . Entrada gratuita\, limitada a la capacidad de la sala.[/vc_column_text][/vc_column][vc_column width=»1/2″][vc_single_image image=»43372″][/vc_column][/vc_row][vc_row][vc_column width=»1/2″][vc_column_text]17:00. Pequeñas Miradas. Lugar: Auditorio de la B+M (Tomba 54).Entrada gratuita\, limitada a la capacidad de la sala. [/vc_column_text][/vc_column][vc_column width=»1/2″][vc_single_image image=»43345″][/vc_column][/vc_row][vc_row][vc_column width=»1/2″][vc_column_text]19:00. Documental: “Favio\, crónica de un director” (Argentina). 2016. Biográfico. 120 min. +13. Director: Alejandro Venturini. Lugar: Auditorio de la B+M (Tomba 54). Entrada gratuita\, limitada a la capacidad de la sala.[/vc_column_text][/vc_column][vc_column width=»1/2″][vc_single_image image=»43373″][/vc_column][/vc_row][vc_row][vc_column width=»1/2″][vc_column_text]19:00. Proyección: “Nadie nos mira” (Argentina). 2017. Drama. 102 min. +16. Director: Julia Solomonoff. Reparto: Guillermo Pfening\, Cristina Morrison\, Elena Roger\, Paola Baldion\, Rafael Ferro. Lugar: Cine Teatro Plaza (Colón 27).  Entrada gratuita\, limitada a la capacidad de la sala.[/vc_column_text][/vc_column][vc_column width=»1/2″][vc_single_image image=»43376″][/vc_column][/vc_row][vc_row][vc_column width=»1/2″][vc_column_text]20:00. Cine en el Museo. Proyección: “El agua del bebedero” (Argentina). 2016. Documental. 30 min. +13. Director: Néstor Colombo. Reparto: Néstor Colombo\, Fermín Cabrera Cuervo\, Lola Quioga García\, Pilar Gudiño. Lugar: Domo Ferroviario (Av. del Trabajo y Panamericana). Entrada gratuita\, limitada a la capacidad de la sala.[/vc_column_text][/vc_column][vc_column width=»1/2″][vc_single_image image=»43377″][/vc_column][/vc_row][vc_row][vc_column width=»1/2″][vc_column_text]21:00. Proyección: “El peso de la ley” (Argentina). 2017. Drama. 101 min. +13. Director: Fernán Mirás. Reparto: Paola Barrientes\, María Onetto\, Darío Grandinetti\, Fernán Mirás\, Jorgelina Aruzzi\, Dario Barassi. Lugar: Cine Teatro Plaza (Colón 27).  Entrada gratuita\, limitada a la capacidad de la sala.[/vc_column_text][/vc_column][vc_column width=»1/2″][vc_single_image image=»43378″][/vc_column][/vc_row][vc_row][vc_column width=»1/2″][vc_column_text]22:00. Cine en el Museo. Proyección: “Camino a la Paz” (Argentina). 2016. Drama. 89 min. ATP. Director: Francisco Varone. Reparto: Rodrigo De la Serna\, Ernesto Suarez\, Elisa Carricajo\, Marta Lubos. Lugar: Domo Ferroviario (Av. del Trabajo y Panamericana). Entrada gratuita\, limitada a la capacidad de la sala.[/vc_column_text][/vc_column][vc_column width=»1/2″][vc_single_image image=»43379″][/vc_column][/vc_row][vc_row][vc_column][vc_btn title=»Consultá la programación de toda la provincia haciendo click acá » style=»flat» color=»warning» link=»url:http%3A%2F%2Ffestivalmiradaoeste.com%2F||target:%20_blank|»][/vc_column][/vc_row] \n
URL:https://www.godoycruz.sisargentina.com/evento/festival-provincial-cine-mirada-oeste-2017-3/
ATTACH;FMTTYPE=image/jpeg:https://www.godoycruz.sisargentina.com/wp-content/uploads/2017/10/fondo-MO-1.jpg
END:VEVENT
END:VCALENDAR