BEGIN:VCALENDAR
VERSION:2.0
PRODID:-//Godoy Cruz - ECPv4.5.8.1//NONSGML v1.0//EN
CALSCALE:GREGORIAN
METHOD:PUBLISH
X-WR-CALNAME:Godoy Cruz
X-ORIGINAL-URL:https://www.godoycruz.sisargentina.com
X-WR-CALDESC:Events for Godoy Cruz
BEGIN:VEVENT
DTSTART;TZID=UTC-3:20230312T200000
DTEND;TZID=UTC-3:20230312T200000
DTSTAMP:20260421T144505
CREATED:20230308T151045Z
LAST-MODIFIED:20230308T151045Z
UID:98127-1678651200-1678651200@www.godoycruz.sisargentina.com
SUMMARY:Festival María Elena Walsh
DESCRIPTION:[vc_row][vc_column][vc_column_text]En el Día Internacional de la Mujer llega una nueva edición del Festival María Elena Walsh. \nSerá un homenaje a la gran escritora argentina \, en un encuentro con mujeres emprendedoras\, en la gastronomía y sobre el escenario. \nHabrá recitales en vivo\, Foodtrucks y más de 20 stands de artesanías. \nArtistas: Flora Tristán y El Gremio Tropical. \nParque Benegas.[/vc_column_text][/vc_column][/vc_row][vc_row][vc_column][vc_single_image image=»98128″ img_size=»full»][/vc_column][/vc_row] \n
URL:https://www.godoycruz.sisargentina.com/evento/festival-maria-elena-walsh-6/
ATTACH;FMTTYPE=image/jpeg:https://www.godoycruz.sisargentina.com/wp-content/uploads/2023/03/334690266_1627091651105880_6568606340403221340_n.jpg
END:VEVENT
END:VCALENDAR