BEGIN:VCALENDAR
VERSION:2.0
PRODID:-//Godoy Cruz - ECPv4.5.8.1//NONSGML v1.0//EN
CALSCALE:GREGORIAN
METHOD:PUBLISH
X-WR-CALNAME:Godoy Cruz
X-ORIGINAL-URL:https://www.godoycruz.sisargentina.com
X-WR-CALDESC:Events for Godoy Cruz
BEGIN:VEVENT
DTSTART;TZID=UTC-3:20220309T210000
DTEND;TZID=UTC-3:20220309T210000
DTSTAMP:20260422T075510
CREATED:20220307T151828Z
LAST-MODIFIED:20220307T151828Z
UID:87217-1646859600-1646859600@www.godoycruz.sisargentina.com
SUMMARY:Festival María Elena Walsh
DESCRIPTION:[vc_row][vc_column][vc_column_text]Reconocidas cantantes llegan al Teatro Plaza. \nEl festival con sello femenino vuelve a Godoy Cruz con una fecha imperdible \nArtistas: Clau Terra; La Lucía (Lucía Miremont); Mariana Päraway; Fran Figueroa; Eve Caletti. \nEntradas en venta: \nBoletería del Teatro Plaza (Colón 27\, Godoy Cruz). Horario de atención: de lunes a sábado\, de 9 a 18h. \nVía online: bit.ly/FestivalMEW \nSe ruega puntualidad y cumplir con el protocolo sanitario vigente.[/vc_column_text][/vc_column][/vc_row][vc_row][vc_column][vc_single_image image=»87218″ img_size=»full»][/vc_column][/vc_row] \n
URL:https://www.godoycruz.sisargentina.com/evento/festival-maria-elena-walsh-4/
LOCATION:Colón 27\, Godoy Cruz\, Mendoza\, 5501\, Argentina
ATTACH;FMTTYPE=image/jpeg:https://www.godoycruz.sisargentina.com/wp-content/uploads/2022/03/WhatsApp-Image-2022-03-07-at-10.24.22-AM.jpeg
END:VEVENT
END:VCALENDAR