BEGIN:VCALENDAR
VERSION:2.0
PRODID:-//Godoy Cruz - ECPv4.5.8.1//NONSGML v1.0//EN
CALSCALE:GREGORIAN
METHOD:PUBLISH
X-WR-CALNAME:Godoy Cruz
X-ORIGINAL-URL:https://www.godoycruz.sisargentina.com
X-WR-CALDESC:Events for Godoy Cruz
BEGIN:VEVENT
DTSTART;TZID=UTC-3:20230511T213000
DTEND;TZID=UTC-3:20230511T213000
DTSTAMP:20260421T113700
CREATED:20230504T172219Z
LAST-MODIFIED:20230504T172219Z
UID:99801-1683840600-1683840600@www.godoycruz.sisargentina.com
SUMMARY:Festival Internacional Mendoza Sax Fest en Godoy Cruz
DESCRIPTION:[vc_row][vc_column][vc_column_text]El encuentro dedicado al saxofón se instala en el departamento con noches musicales únicas. \nConcierto de Escalandrum. \nLas entradas se pueden obtener vía online en https://bit.ly/EscalandrumMendozaSaxFest o en la boletería del teatro\, de lunes a sábado de 9 a 18hs.[/vc_column_text][/vc_column][/vc_row][vc_row][vc_column][vc_single_image image=»99802″ img_size=»full»][/vc_column][/vc_row] \n
URL:https://www.godoycruz.sisargentina.com/evento/festival-internacional-mendoza-sax-fest-godoy-cruz/
LOCATION:Colón 27\, Godoy Cruz\, Mendoza\, 5501\, Argentina
ATTACH;FMTTYPE=image/jpeg:https://www.godoycruz.sisargentina.com/wp-content/uploads/2023/05/343053087_613277234166269_8315351457360836991_n.jpg
END:VEVENT
END:VCALENDAR