BEGIN:VCALENDAR
VERSION:2.0
PRODID:-//Godoy Cruz - ECPv4.5.8.1//NONSGML v1.0//EN
CALSCALE:GREGORIAN
METHOD:PUBLISH
X-WR-CALNAME:Godoy Cruz
X-ORIGINAL-URL:https://www.godoycruz.sisargentina.com
X-WR-CALDESC:Events for Godoy Cruz
BEGIN:VEVENT
DTSTART;TZID=UTC-3:20230513T223000
DTEND;TZID=UTC-3:20230513T223000
DTSTAMP:20260421T100611
CREATED:20230504T173607Z
LAST-MODIFIED:20230504T173607Z
UID:99807-1684017000-1684017000@www.godoycruz.sisargentina.com
SUMMARY:Festival Internacional Mendoza Sax Fest en Godoy Cruz
DESCRIPTION:[vc_row][vc_column][vc_column_text]El encuentro dedicado al saxofón se instala en el departamento con noches musicales únicas. \nAfter en Espacio Arizu. \nJam Session. \nEntrada gratuita.[/vc_column_text][/vc_column][/vc_row][vc_row][vc_column][vc_single_image image=»99805″ img_size=»full»][/vc_column][/vc_row] \n
URL:https://www.godoycruz.sisargentina.com/evento/festival-internacional-mendoza-sax-fest-godoy-cruz-3/
ATTACH;FMTTYPE=image/jpeg:https://www.godoycruz.sisargentina.com/wp-content/uploads/2023/05/344167625_1690486208072875_2614148577404458713_n.jpg
END:VEVENT
END:VCALENDAR