BEGIN:VCALENDAR
VERSION:2.0
PRODID:-//Godoy Cruz - ECPv4.5.8.1//NONSGML v1.0//EN
CALSCALE:GREGORIAN
METHOD:PUBLISH
X-WR-CALNAME:Godoy Cruz
X-ORIGINAL-URL:https://www.godoycruz.sisargentina.com
X-WR-CALDESC:Events for Godoy Cruz
BEGIN:VEVENT
DTSTART;TZID=UTC-3:20211011T210000
DTEND;TZID=UTC-3:20211011T210000
DTSTAMP:20260422T154321
CREATED:20211005T161716Z
LAST-MODIFIED:20211008T161601Z
UID:82495-1633986000-1633986000@www.godoycruz.sisargentina.com
SUMMARY:Festival García Lorca
DESCRIPTION:[vc_row][vc_column][vc_column_text]Encuentro multidisciplinario de danzas\, charlas\, presentación de libros\, teatro\, cine\, música e intervenciones. \n21:00. “La Casa de Bernarda Alba”. \nElenco Expresión Contemporánea (San Juan). \nEntrada gratuita\, limitada y por orden de llegada. \nSe ruega puntualidad y cumplir con el protocolo sanitario vigente.[/vc_column_text][/vc_column][/vc_row][vc_row][vc_column][vc_single_image image=»82636″ img_size=»full»][/vc_column][/vc_row] \n
URL:https://www.godoycruz.sisargentina.com/evento/festival-garcia-lorca-5-2/
LOCATION:Colón 27\, Godoy Cruz\, Mendoza\, 5501\, Argentina
ATTACH;FMTTYPE=image/png:https://www.godoycruz.sisargentina.com/wp-content/uploads/2021/10/244229324_2129125217243745_3318466572116879337_n.png
END:VEVENT
END:VCALENDAR