BEGIN:VCALENDAR
VERSION:2.0
PRODID:-//Godoy Cruz - ECPv4.5.8.1//NONSGML v1.0//EN
CALSCALE:GREGORIAN
METHOD:PUBLISH
X-WR-CALNAME:Godoy Cruz
X-ORIGINAL-URL:https://www.godoycruz.sisargentina.com
X-WR-CALDESC:Events for Godoy Cruz
BEGIN:VEVENT
DTSTART;TZID=UTC-3:20211010T203000
DTEND;TZID=UTC-3:20211010T203000
DTSTAMP:20260422T172214
CREATED:20211005T160618Z
LAST-MODIFIED:20211005T160618Z
UID:82490-1633897800-1633897800@www.godoycruz.sisargentina.com
SUMMARY:Festival García Lorca
DESCRIPTION:[vc_row][vc_column][vc_column_text]Encuentro multidisciplinario de danzas\, charlas\, presentación de libros\, teatro\, cine\, música e intervenciones. \n20:30. “Mi amigo Lorca”. Elenco Concertado. Compañía La Monarca. Intervención: “Susurros a destiempo”. \nEntrada gratuita\, limitada y por orden de llegada. \nSe ruega puntualidad y cumplir con el protocolo sanitario vigente.[/vc_column_text][/vc_column][/vc_row][vc_row][vc_column][vc_single_image image=»82491″ img_size=»full»][/vc_column][/vc_row] \n
URL:https://www.godoycruz.sisargentina.com/evento/festival-garcia-lorca-3/
ATTACH;FMTTYPE=image/jpeg:https://www.godoycruz.sisargentina.com/wp-content/uploads/2021/10/243948281_2126965214126412_8782606183702514014_n.jpg
END:VEVENT
END:VCALENDAR