BEGIN:VCALENDAR
VERSION:2.0
PRODID:-//Godoy Cruz - ECPv4.5.8.1//NONSGML v1.0//EN
CALSCALE:GREGORIAN
METHOD:PUBLISH
X-WR-CALNAME:Godoy Cruz
X-ORIGINAL-URL:https://www.godoycruz.sisargentina.com
X-WR-CALDESC:Events for Godoy Cruz
BEGIN:VEVENT
DTSTART;TZID=UTC-3:20230916T120000
DTEND;TZID=UTC-3:20230916T120000
DTSTAMP:20260421T014410
CREATED:20230915T174304Z
LAST-MODIFIED:20230915T174304Z
UID:103488-1694865600-1694865600@www.godoycruz.sisargentina.com
SUMMARY:Festival de Foodtrucks Sinfónico
DESCRIPTION:[vc_row][vc_column][vc_column_text]Vuelve el festival organizado por la Municipalidad de Godoy Cruz y AMEGAM (Asociación Mendocina de Gastronomía Móvil). \n30 propuestas gastronómicas. Música en vivo. Espacio de emprendedores. Áreas recreativas. \nClub del Vinilo. Batos. Fito Páez Sinfónico (Orquesta Pianoforte + Polaroid). \nEntrada gratuita.[/vc_column_text][/vc_column][/vc_row][vc_row][vc_column][vc_single_image image=»103489″ img_size=»full»][/vc_column][/vc_row] \n
URL:https://www.godoycruz.sisargentina.com/evento/festival-foodtrucks-sinfonico-2/
ATTACH;FMTTYPE=image/jpeg:https://www.godoycruz.sisargentina.com/wp-content/uploads/2023/09/378148665_632137299105183_8647657133474945104_n.jpg
END:VEVENT
END:VCALENDAR