BEGIN:VCALENDAR
VERSION:2.0
PRODID:-//Godoy Cruz - ECPv4.5.8.1//NONSGML v1.0//EN
CALSCALE:GREGORIAN
METHOD:PUBLISH
X-WR-CALNAME:Godoy Cruz
X-ORIGINAL-URL:https://www.godoycruz.sisargentina.com
X-WR-CALDESC:Events for Godoy Cruz
BEGIN:VEVENT
DTSTART;TZID=UTC-3:20190914T120000
DTEND;TZID=UTC-3:20190914T120000
DTSTAMP:20260424T073741
CREATED:20190913T162844Z
LAST-MODIFIED:20190913T162844Z
UID:62860-1568462400-1568462400@www.godoycruz.sisargentina.com
SUMMARY:Festival de Food Trucks AMEGAM
DESCRIPTION:[vc_row][vc_column][vc_column_text]Shows en vivo\, ballets culturales\, sector para niños y espacio de diseño. \nVotación digital del público para los foodtrucks participantes (www.amegam.com). \nEntrada libre y gratuita (un alimento no perecedero).[/vc_column_text][/vc_column][/vc_row][vc_row][vc_column][vc_single_image image=»62857″ img_size=»full»][/vc_column][/vc_row] \n
URL:https://www.godoycruz.sisargentina.com/evento/festival-food-trucks-amegam-5/
ATTACH;FMTTYPE=image/jpeg:https://www.godoycruz.sisargentina.com/wp-content/uploads/2019/09/placa-food-trucks-2019-1.jpg
END:VEVENT
END:VCALENDAR