BEGIN:VCALENDAR
VERSION:2.0
PRODID:-//Godoy Cruz - ECPv4.5.8.1//NONSGML v1.0//EN
CALSCALE:GREGORIAN
METHOD:PUBLISH
X-WR-CALNAME:Godoy Cruz
X-ORIGINAL-URL:https://www.godoycruz.sisargentina.com
X-WR-CALDESC:Events for Godoy Cruz
BEGIN:VEVENT
DTSTART;TZID=UTC-3:20190505T193000
DTEND;TZID=UTC-3:20190505T193000
DTSTAMP:20260424T162218
CREATED:20190503T020455Z
LAST-MODIFIED:20190503T020705Z
UID:58824-1557084600-1557084600@www.godoycruz.sisargentina.com
SUMMARY:Festival Emergentes Rock Solidario
DESCRIPTION:[vc_row][vc_column][vc_column_text]Recital de las bandas mendocinas El Rastro de Cirilo\, 14.22 Rock y Ragna Rock. \nEntrada general: alimentos no perecederos para colaborar con el Jardin Jarillitas de Godoy Cruz.[/vc_column_text][/vc_column][/vc_row][vc_row][vc_column][vc_single_image image=»58825″ img_size=»full»][/vc_column][/vc_row] \n
URL:https://www.godoycruz.sisargentina.com/evento/festival-emergentes-rock-solidario-1/
LOCATION:Tomba 54\, Godoy Cruz\, Mendoza\, 5501\, Argentina
ATTACH;FMTTYPE=image/jpeg:https://www.godoycruz.sisargentina.com/wp-content/uploads/2019/05/IMG-20190430-WA0012.jpg
END:VEVENT
END:VCALENDAR