BEGIN:VCALENDAR
VERSION:2.0
PRODID:-//Godoy Cruz - ECPv4.5.8.1//NONSGML v1.0//EN
CALSCALE:GREGORIAN
METHOD:PUBLISH
X-WR-CALNAME:Godoy Cruz
X-ORIGINAL-URL:https://www.godoycruz.sisargentina.com
X-WR-CALDESC:Events for Godoy Cruz
BEGIN:VEVENT
DTSTART;TZID=UTC-3:20240824T180000
DTEND;TZID=UTC-3:20240824T220000
DTSTAMP:20260422T102234
CREATED:20240820T160620Z
LAST-MODIFIED:20240820T160620Z
UID:114170-1724522400-1724536800@www.godoycruz.sisargentina.com
SUMMARY:Festival Borges
DESCRIPTION:[vc_row][vc_column][vc_column_text]A 125 años de su nacimiento\, homenajeamos a uno de los autores más importantes de la literatura argentina y latinoamericana. \nEl Festival Borges realizará un recorrido por el universo borgeano entrelazando diversas disciplinas artísticas. \nSerá un encuentro especialmente dedicado a resaltar la vida y obra de este emblemático escritor y poeta. \nEntrada gratuita. \nAgenda: \n18H. Plaza de Godoy Cruz . “Presentación de rap: La biblioteca infinita”. \n19H. Centro Patrimonial Artístico Cristoforo Colombo (Tomba 246). “Exposición científica: Los multiversos de Borges”\,con Mariana Marengo. \n19H. Centro Patrimonial Artístico Cristoforo Colombo (Tomba 246). “Experiencia Borges: Dj +Visual + Narración”. \n22H. Pirca (Av. San Martín 2030). “Poemas y canciones: El sueño del rey”\, con Yoya Jofré y Javier Cusimano.[/vc_column_text][/vc_column][/vc_row][vc_row][vc_column][vc_single_image image=»114171″ img_size=»full»][/vc_column][/vc_row] \n
URL:https://www.godoycruz.sisargentina.com/evento/festival-borges/
ATTACH;FMTTYPE=image/jpeg:https://www.godoycruz.sisargentina.com/wp-content/uploads/2024/08/456306520_828433469475564_6886817934251851223_n.jpg
END:VEVENT
END:VCALENDAR