BEGIN:VCALENDAR
VERSION:2.0
PRODID:-//Godoy Cruz - ECPv4.5.8.1//NONSGML v1.0//EN
CALSCALE:GREGORIAN
METHOD:PUBLISH
X-WR-CALNAME:Godoy Cruz
X-ORIGINAL-URL:https://www.godoycruz.sisargentina.com
X-WR-CALDESC:Events for Godoy Cruz
BEGIN:VEVENT
DTSTART;TZID=UTC-3:20170930T170000
DTEND;TZID=UTC-3:20170930T170000
DTSTAMP:20260426T000818
CREATED:20170927T163116Z
LAST-MODIFIED:20171002T020055Z
UID:42354-1506790800-1506790800@www.godoycruz.sisargentina.com
SUMMARY:Festival Andino Internacional de Teatro Mendoza 2017 (suspendido)
DESCRIPTION:[vc_row][vc_column][vc_column_text]Espectáculo de variedades del Circo Tranzat (Uruguay). \n[/vc_column_text][/vc_column][/vc_row][vc_row][vc_column][/vc_column][/vc_row][vc_row][vc_column][vc_gmaps link=»#E-8_JTNDaWZyYW1lJTIwc3JjJTNEJTIyaHR0cHMlM0ElMkYlMkZ3d3cuZ29vZ2xlLmNvbSUyRm1hcHMlMkZlbWJlZCUzRnBiJTNEJTIxMW0xOCUyMTFtMTIlMjExbTMlMjExZDMzNDcuOTQ3ODcwOTk2NDglMjEyZC02OC44NTU5Mzc0ODUwMjQ1MyUyMTNkLTMyLjk1MjM4NTY3OTUwODM4JTIxMm0zJTIxMWYwJTIxMmYwJTIxM2YwJTIxM20yJTIxMWkxMDI0JTIxMmk3NjglMjE0ZjEzLjElMjEzbTMlMjExbTIlMjExczB4OTY3ZTBiYzk2YzJiZTQ4NSUyNTNBMHgzN2E3YTE4MjhiMzA0ZjNjJTIxMnNFc3RhY2klMjVDMyUyNUIzbiUyQkJlbmVnYXMlMjE1ZTAlMjEzbTIlMjExc2VzLTQxOSUyMTJzYXIlMjE0djE1MDY1MzI3MzQ3OTYlMjIlMjB3aWR0aCUzRCUyMjQwMCUyMiUyMGhlaWdodCUzRCUyMjMwMCUyMiUyMGZyYW1lYm9yZGVyJTNEJTIyMCUyMiUyMHN0eWxlJTNEJTIyYm9yZGVyJTNBMCUyMiUyMGFsbG93ZnVsbHNjcmVlbiUzRSUzQyUyRmlmcmFtZSUzRQ==»][/vc_column][/vc_row] \n
URL:https://www.godoycruz.sisargentina.com/evento/festival-andino-internacional-teatro-mendoza-2017/
END:VEVENT
END:VCALENDAR