BEGIN:VCALENDAR
VERSION:2.0
PRODID:-//Godoy Cruz - ECPv4.5.8.1//NONSGML v1.0//EN
CALSCALE:GREGORIAN
METHOD:PUBLISH
X-WR-CALNAME:Godoy Cruz
X-ORIGINAL-URL:https://www.godoycruz.sisargentina.com
X-WR-CALDESC:Events for Godoy Cruz
BEGIN:VEVENT
DTSTART;TZID=UTC-3:20220820T150000
DTEND;TZID=UTC-3:20220820T180000
DTSTAMP:20260421T235043
CREATED:20220814T211300Z
LAST-MODIFIED:20220814T211300Z
UID:91971-1661007600-1661018400@www.godoycruz.sisargentina.com
SUMMARY:Festejos del Día de la Niñez
DESCRIPTION:[vc_row][vc_column][vc_column_text]Te invitamos a disfrutar del Día de la Niñez en Godoy Cruz con shows en vivo\, chocolate y sorteos de bicicletas\, patinetas\, triciclos y juegos didácticos. \nSábado 20. Barrio La Estanzuela (Centro de Salud N° 168\, Lago Hermoso y Mathus Hoyos). De 15 a 18 horas. \nGrilla: Pocamosca\, Porotita y Tatan\, Sacachispas y Circus Magenta. \nAcompañan: A.F.A.G (Agrupación Fútbol Amateur Godoy Cruz)\, Centro de Salud Nº 168\, Mendoza Gobierno\, Ballet del Pedemonte\,  Espacio Cultural La Orilla.[/vc_column_text][/vc_column][/vc_row][vc_row][vc_column][vc_single_image image=»91972″ img_size=»full»][/vc_column][/vc_row] \n
URL:https://www.godoycruz.sisargentina.com/evento/festejos-del-dia-la-ninez/
LOCATION:Mathus Hoyos y Lago Hermoso\, B°La Estanzuela\, Godoy Cruz\, Argentina
ATTACH;FMTTYPE=image/jpeg:https://www.godoycruz.sisargentina.com/wp-content/uploads/2022/08/Niñez-Estanzuela.jpg
END:VEVENT
END:VCALENDAR