BEGIN:VCALENDAR
VERSION:2.0
PRODID:-//Godoy Cruz - ECPv4.5.8.1//NONSGML v1.0//EN
CALSCALE:GREGORIAN
METHOD:PUBLISH
X-WR-CALNAME:Godoy Cruz
X-ORIGINAL-URL:https://www.godoycruz.sisargentina.com
X-WR-CALDESC:Events for Godoy Cruz
BEGIN:VEVENT
DTSTART;TZID=UTC-3:20220821T150000
DTEND;TZID=UTC-3:20220821T180000
DTSTAMP:20260421T235048
CREATED:20220814T224157Z
LAST-MODIFIED:20220814T224157Z
UID:91979-1661094000-1661104800@www.godoycruz.sisargentina.com
SUMMARY:Festejos del Día de la Niñez
DESCRIPTION:[vc_row][vc_column][vc_column_text]Te invitamos a disfrutar del Día de la Niñez en Godoy Cruz con shows en vivo\, chocolate y sorteos de bicicletas\, patinetas\, triciclos y juegos didácticos. \nDomingo 21. Canchita del Barrio Los Barrancos (Coronado y Puerto Rico).  De 15 a 18. \nGrilla: Porotita y Tatan\, Polen un héroe hecho de flores\, Títeres Kapaieie y The Wachines. \nAcompañan: Merendero Esperancita\, Centro Educativo Jarillita\, Club Social Deportivo Los Barrancos\, Merendero Mi Luz y Merendero Huellitas de Fuego.[/vc_column_text][/vc_column][/vc_row][vc_row][vc_column][vc_single_image image=»91980″ img_size=»full»][/vc_column][/vc_row] \n
URL:https://www.godoycruz.sisargentina.com/evento/festejos-del-dia-la-ninez-3/
ATTACH;FMTTYPE=image/jpeg:https://www.godoycruz.sisargentina.com/wp-content/uploads/2022/08/Niñez-Barrancos.jpg
END:VEVENT
END:VCALENDAR