BEGIN:VCALENDAR
VERSION:2.0
PRODID:-//Godoy Cruz - ECPv4.5.8.1//NONSGML v1.0//EN
CALSCALE:GREGORIAN
METHOD:PUBLISH
X-WR-CALNAME:Godoy Cruz
X-ORIGINAL-URL:https://www.godoycruz.sisargentina.com
X-WR-CALDESC:Events for Godoy Cruz
BEGIN:VEVENT
DTSTART;TZID=UTC-3:20240309T110000
DTEND;TZID=UTC-3:20240309T110000
DTSTAMP:20260420T145747
CREATED:20240306T155549Z
LAST-MODIFIED:20240306T155549Z
UID:108079-1709982000-1709982000@www.godoycruz.sisargentina.com
SUMMARY:Feria Nupra
DESCRIPTION:[vc_row][vc_column][vc_column_text]Continuan las actividades por el Día Internacional de la Mujer\, con la Feria Nupra edición «Mujeres emprendedoras». \nHabrá objetos y diseños de más de 20 emprendimientos mendocinos\, de diferentes rubros. \nAdemás: charlas de emprendedoras y Transhumante Cooperativa Filosófica\, música en vivo y foodtrucks. \nArtistas: \nDj Greta; Las Chicas Hacen Rock; Carla Petrus. \nEntrada gratuita.[/vc_column_text][/vc_column][/vc_row][vc_row][vc_column][vc_single_image image=»108080″ img_size=»full»][/vc_column][/vc_row] \n
URL:https://www.godoycruz.sisargentina.com/evento/feria-nupra/
ATTACH;FMTTYPE=image/jpeg:https://www.godoycruz.sisargentina.com/wp-content/uploads/2024/03/431331480_727662522885993_5923110634868036088_n.jpg
END:VEVENT
END:VCALENDAR