BEGIN:VCALENDAR
VERSION:2.0
PRODID:-//Godoy Cruz - ECPv4.5.8.1//NONSGML v1.0//EN
CALSCALE:GREGORIAN
METHOD:PUBLISH
X-WR-CALNAME:Godoy Cruz
X-ORIGINAL-URL:https://www.godoycruz.sisargentina.com
X-WR-CALDESC:Events for Godoy Cruz
BEGIN:VEVENT
DTSTART;TZID=UTC-3:20180104T190000
DTEND;TZID=UTC-3:20180104T190000
DTSTAMP:20260425T194206
CREATED:20171222T171852Z
LAST-MODIFIED:20171222T171852Z
UID:45575-1515092400-1515092400@www.godoycruz.sisargentina.com
SUMMARY:Feria de Reyes
DESCRIPTION:[vc_row][vc_column][vc_column_text]Numerosos stands de artesanos y juguetes artesanales para ir pensando en los regalitos de Reyes Magos y muchas sorpresas más. \nLugar: Parque Benegas (Av. del Trabajo y Panamerica).[/vc_column_text][/vc_column][/vc_row][vc_row][vc_column][vc_single_image image=»45571″ img_size=»full»][/vc_column][/vc_row][vc_row][vc_column][vc_gmaps link=»#E-8_JTNDaWZyYW1lJTIwc3JjJTNEJTIyaHR0cHMlM0ElMkYlMkZ3d3cuZ29vZ2xlLmNvbSUyRm1hcHMlMkZlbWJlZCUzRnBiJTNEJTIxMW0xOCUyMTFtMTIlMjExbTMlMjExZDMzNDcuOTQ3NDMxNjE1NzA2NiUyMTJkLTY4Ljg1NTg4NzQ4NTMxMjYlMjEzZC0zMi45NTIzOTcyNzk1MDgzNTQlMjEybTMlMjExZjAlMjEyZjAlMjEzZjAlMjEzbTIlMjExaTEwMjQlMjEyaTc2OCUyMTRmMTMuMSUyMTNtMyUyMTFtMiUyMTFzMHg5NjdlMGJiNDE2NzNhYWQ1JTI1M0EweDRkNmI3M2Q5MGZmNWZjYWYlMjEyc1BhcnF1ZSUyQkVzdGFjaW9uJTJCQmVuZWdhcyUyMTVlMCUyMTNtMiUyMTFzZXMtNDE5JTIxMnNhciUyMTR2MTUxMzk2Mjk1OTk1MyUyMiUyMHdpZHRoJTNEJTIyNjAwJTIyJTIwaGVpZ2h0JTNEJTIyNDUwJTIyJTIwZnJhbWVib3JkZXIlM0QlMjIwJTIyJTIwc3R5bGUlM0QlMjJib3JkZXIlM0EwJTIyJTIwYWxsb3dmdWxsc2NyZWVuJTNFJTNDJTJGaWZyYW1lJTNF»][/vc_column][/vc_row] \n
URL:https://www.godoycruz.sisargentina.com/evento/feria-de-reyes-2/
ATTACH;FMTTYPE=image/jpeg:https://www.godoycruz.sisargentina.com/wp-content/uploads/2017/12/ba1960f3-8d12-4767-a264-682e4176706c.jpg
END:VEVENT
END:VCALENDAR