BEGIN:VCALENDAR
VERSION:2.0
PRODID:-//Godoy Cruz - ECPv4.5.8.1//NONSGML v1.0//EN
CALSCALE:GREGORIAN
METHOD:PUBLISH
X-WR-CALNAME:Godoy Cruz
X-ORIGINAL-URL:https://www.godoycruz.sisargentina.com
X-WR-CALDESC:Events for Godoy Cruz
BEGIN:VEVENT
DTSTART;TZID=UTC-3:20230505T210000
DTEND;TZID=UTC-3:20230505T210000
DTSTAMP:20260421T113348
CREATED:20230424T175056Z
LAST-MODIFIED:20230424T175056Z
UID:99490-1683320400-1683320400@www.godoycruz.sisargentina.com
SUMMARY:Fantasmas del Subsuelo y Gienah
DESCRIPTION:[vc_row][vc_column][vc_column_text]Destacadas bandas de pop-rock mendocino suenan en Godoy Cruz. \nEn este show se unirá el poderío de estos dos grupos\, cada uno con su impronta y su identidad. \nLas entradas se pueden obtener vía online en  https://bit.ly/EntradasFantasmasYGineah o en la boletería del teatro\, de lunes a sábado de 9 a 18hs.[/vc_column_text][/vc_column][/vc_row][vc_row][vc_column][vc_single_image image=»99491″ img_size=»full»][/vc_column][/vc_row] \n
URL:https://www.godoycruz.sisargentina.com/evento/fantasmas-del-subsuelo-gienah/
LOCATION:Colón 27\, Godoy Cruz\, Mendoza\, 5501\, Argentina
ATTACH;FMTTYPE=image/jpeg:https://www.godoycruz.sisargentina.com/wp-content/uploads/2023/04/342969784_535668965396645_340592275906499173_n.jpg
END:VEVENT
END:VCALENDAR