BEGIN:VCALENDAR
VERSION:2.0
PRODID:-//Godoy Cruz - ECPv4.5.8.1//NONSGML v1.0//EN
CALSCALE:GREGORIAN
METHOD:PUBLISH
X-WR-CALNAME:Godoy Cruz
X-ORIGINAL-URL:https://www.godoycruz.sisargentina.com
X-WR-CALDESC:Events for Godoy Cruz
BEGIN:VEVENT
DTSTART;TZID=UTC-3:20220320T210000
DTEND;TZID=UTC-3:20220320T210000
DTSTAMP:20260422T074933
CREATED:20220311T152402Z
LAST-MODIFIED:20220311T152402Z
UID:87411-1647810000-1647810000@www.godoycruz.sisargentina.com
SUMMARY:F.I.N.D.E
DESCRIPTION:[vc_row][vc_column][vc_column_text]Llega a Godoy Cruz el 1º Festival Independiente de Nuevas Direcciones del Espectáculo. \nProgramación de obras teatrales: \nNoche de cierre. \nObra: “Peliculeras”\, con Jessica Torrijos. \nEntrada gratuita. \nSe ruega puntualidad y cumplir con el protocolo sanitario vigente.[/vc_column_text][/vc_column][/vc_row][vc_row][vc_column][vc_single_image image=»87370″ img_size=»full»][/vc_column][/vc_row] \n
URL:https://www.godoycruz.sisargentina.com/evento/f-i-n-d-e-6/
LOCATION:Colón 27\, Godoy Cruz\, Mendoza\, 5501\, Argentina
ATTACH;FMTTYPE=image/jpeg:https://www.godoycruz.sisargentina.com/wp-content/uploads/2022/03/WhatsApp-Image-2022-03-10-at-10.01.52-AM.jpeg
END:VEVENT
END:VCALENDAR