BEGIN:VCALENDAR
VERSION:2.0
PRODID:-//Godoy Cruz - ECPv4.5.8.1//NONSGML v1.0//EN
CALSCALE:GREGORIAN
METHOD:PUBLISH
X-WR-CALNAME:Godoy Cruz
X-ORIGINAL-URL:https://www.godoycruz.sisargentina.com
X-WR-CALDESC:Events for Godoy Cruz
BEGIN:VEVENT
DTSTART;TZID=UTC-3:20231111T210000
DTEND;TZID=UTC-3:20231111T210000
DTSTAMP:20260422T102357
CREATED:20231027T173340Z
LAST-MODIFIED:20231027T173340Z
UID:104682-1699736400-1699736400@www.godoycruz.sisargentina.com
SUMMARY:Experiencia Queen
DESCRIPTION:[vc_row][vc_column][vc_column_text]El tributo a la icónica banda inglesa brindará una presentación de lujo en el Teatro Plaza. \nCon vestuarios e instrumentos originales\, los músicos representan fielmente a cada uno de los integrantes del inolvidable cuarteto inglés\, tanto en lo musical como en su puesta en escena. \nArtistas: Mariano Zito (Freddie Mercury)\, César Barabino (Brian May)\, Sergio Habat (John Deacon)\, Nicolás Cuenca (Roger Taylor) y Matías Merçeauroix (teclados y voces adicionales). \nComprá tus entradas online en https://bit.ly/EntradasExperienciaQueen2 o en la boletería del teatro (solo efectivo)\, de lunes a sábado de 9 a 18 hs.[/vc_column_text][/vc_column][/vc_row][vc_row][vc_column][vc_single_image image=»104683″ img_size=»full»][/vc_column][/vc_row] \n
URL:https://www.godoycruz.sisargentina.com/evento/experiencia-queen/
LOCATION:Colón 27\, Godoy Cruz\, Mendoza\, 5501\, Argentina
ATTACH;FMTTYPE=image/jpeg:https://www.godoycruz.sisargentina.com/wp-content/uploads/2023/10/Experiencia-Queen-Mdz-2.jpeg
END:VEVENT
END:VCALENDAR