BEGIN:VCALENDAR
VERSION:2.0
PRODID:-//Godoy Cruz - ECPv4.5.8.1//NONSGML v1.0//EN
CALSCALE:GREGORIAN
METHOD:PUBLISH
X-WR-CALNAME:Godoy Cruz
X-ORIGINAL-URL:https://www.godoycruz.sisargentina.com
X-WR-CALDESC:Events for Godoy Cruz
BEGIN:VEVENT
DTSTART;TZID=UTC-3:20220918T200000
DTEND;TZID=UTC-3:20220918T200000
DTSTAMP:20260421T221951
CREATED:20220916T163215Z
LAST-MODIFIED:20220916T163215Z
UID:93210-1663531200-1663531200@www.godoycruz.sisargentina.com
SUMMARY:Experiencia Lorca en el Cine Teatro Plaza
DESCRIPTION:[vc_row][vc_column][vc_column_text]Experiencia Lorca\, bajo la dirección del bailaor Pablo Garay. En esta puesta\, el escenario vibrará al compás de la música y la danza flamenca\, con artistas invitados.[/vc_column_text][/vc_column][/vc_row][vc_row][vc_column][vc_single_image image=»93211″ img_size=»full»][/vc_column][/vc_row] \n
URL:https://www.godoycruz.sisargentina.com/evento/experiencia-lorca-cine-teatro-plaza/
LOCATION:Colon 27\, Godoy Cruz\, Mendoza\, Argentina
ATTACH;FMTTYPE=image/jpeg:https://www.godoycruz.sisargentina.com/wp-content/uploads/2022/09/ExperienciaLorxa.jpeg
END:VEVENT
END:VCALENDAR