BEGIN:VCALENDAR
VERSION:2.0
PRODID:-//Godoy Cruz - ECPv4.5.8.1//NONSGML v1.0//EN
CALSCALE:GREGORIAN
METHOD:PUBLISH
X-WR-CALNAME:Godoy Cruz
X-ORIGINAL-URL:https://www.godoycruz.sisargentina.com
X-WR-CALDESC:Events for Godoy Cruz
BEGIN:VEVENT
DTSTART;TZID=UTC-3:20230820T203000
DTEND;TZID=UTC-3:20230820T203000
DTSTAMP:20260421T045503
CREATED:20230801T143356Z
LAST-MODIFIED:20230801T143356Z
UID:102090-1692563400-1692563400@www.godoycruz.sisargentina.com
SUMMARY:Existir
DESCRIPTION:[vc_row][vc_column][vc_column_text]A través de la música\, la danza y la poesía\, «Existir» explora diferentes temas universales. \nEs una apasionante obra que lleva al público en un viaje emotivo y reflexivo. \nAmbientada en un mundo contemporáneo\, sigue la vida de diferentes personajes que buscan su propio significado y propósito en la vida. \nMúsica: Grupo La Rienda. \nObtené tus entradas de manera online en https://bit.ly/EntradasLaRiendaPresentaExistir o en la boletería del teatro (solo en efectivo)\, de lunes a sábado de 9 a 18 hs.[/vc_column_text][/vc_column][/vc_row][vc_row][vc_column][vc_single_image image=»102091″ img_size=»full»][/vc_column][/vc_row] \n
URL:https://www.godoycruz.sisargentina.com/evento/existir/
LOCATION:Colón 27\, Godoy Cruz\, Mendoza\, 5501\, Argentina
ATTACH;FMTTYPE=image/jpeg:https://www.godoycruz.sisargentina.com/wp-content/uploads/2023/08/363439680_833349058144625_1703983369185764696_n-1.jpg
END:VEVENT
END:VCALENDAR