BEGIN:VCALENDAR
VERSION:2.0
PRODID:-//Godoy Cruz - ECPv4.5.8.1//NONSGML v1.0//EN
CALSCALE:GREGORIAN
METHOD:PUBLISH
X-WR-CALNAME:Godoy Cruz
X-ORIGINAL-URL:https://www.godoycruz.sisargentina.com
X-WR-CALDESC:Events for Godoy Cruz
BEGIN:VEVENT
DTSTART;TZID=UTC-3:20230422T210000
DTEND;TZID=UTC-3:20230422T210000
DTSTAMP:20260421T111914
CREATED:20230417T152051Z
LAST-MODIFIED:20230417T152051Z
UID:99295-1682197200-1682197200@www.godoycruz.sisargentina.com
SUMMARY:Esencia Tango
DESCRIPTION:[vc_row][vc_column][vc_column_text]Marcelo De Dorrego Producciones presenta un espectáculo que muestra la historia del tango desde el canto\, la música\, el teatro y la danza. \nPuesta en escena y guion: Marcelo De Dorrego \nProducción: Marcelo De Dorrego\, Alejandro Verón y Ansuya Difonso. \nActuación: Marcelo de Dorrego. \nCantantes: Grisel Ríos\, Alejandro Verón\, Lourdes “La Leona” Hermosilla. \nMúsicos: Roberto Cereda (bandoneón)\, Quique Nomberto (piano). \nBailarines: Ansuya Difonso (Compañía Papirusa Tango) y Diego Pérez. \nLas entradas se pueden obtener vía online en  https://bit.ly/EntradasEsenciaTango     o en la boletería del teatro\, de lunes a sábado de 9 a 18hs.[/vc_column_text][/vc_column][/vc_row][vc_row][vc_column][vc_single_image image=»99296″ img_size=»full»][/vc_column][/vc_row] \n
URL:https://www.godoycruz.sisargentina.com/evento/esencia-tango/
LOCATION:Colón 27\, Godoy Cruz\, Mendoza\, 5501\, Argentina
ATTACH;FMTTYPE=image/jpeg:https://www.godoycruz.sisargentina.com/wp-content/uploads/2023/04/341345223_1415000149235441_258045350885351267_n.jpg
END:VEVENT
END:VCALENDAR