BEGIN:VCALENDAR
VERSION:2.0
PRODID:-//Godoy Cruz - ECPv4.5.8.1//NONSGML v1.0//EN
CALSCALE:GREGORIAN
METHOD:PUBLISH
X-WR-CALNAME:Godoy Cruz
X-ORIGINAL-URL:https://www.godoycruz.sisargentina.com
X-WR-CALDESC:Events for Godoy Cruz
BEGIN:VEVENT
DTSTART;TZID=UTC-3:20181007T200000
DTEND;TZID=UTC-3:20181007T200000
DTSTAMP:20260425T040614
CREATED:20180928T133707Z
LAST-MODIFIED:20180928T133707Z
UID:53438-1538942400-1538942400@www.godoycruz.sisargentina.com
SUMMARY:Escuela de improvisación
DESCRIPTION:[vc_row][vc_column][vc_column_text]Talleristas: Claudio Martinez; Osky Pizarro y Augusto Martinez. \nMuestra e inscripción (gratuita). Edades: de 14 a 24 años. \nConsultas: 4133250. \nCasa del Futuro (Sarmiento 2291\, Godoy Cruz). 20:00[/vc_column_text][/vc_column][/vc_row][vc_row][vc_column][vc_single_image image=»53436″ img_size=»full»][/vc_column][/vc_row] \n
URL:https://www.godoycruz.sisargentina.com/evento/escuela-de-improvisacion-2/
ATTACH;FMTTYPE=image/jpeg:https://www.godoycruz.sisargentina.com/wp-content/uploads/2018/09/WhatsApp-Image-2018-09-26-at-13.35.41.jpeg
END:VEVENT
END:VCALENDAR