BEGIN:VCALENDAR
VERSION:2.0
PRODID:-//Godoy Cruz - ECPv4.5.8.1//NONSGML v1.0//EN
CALSCALE:GREGORIAN
METHOD:PUBLISH
X-WR-CALNAME:Godoy Cruz
X-ORIGINAL-URL:https://www.godoycruz.sisargentina.com
X-WR-CALDESC:Events for Godoy Cruz
BEGIN:VEVENT
DTSTART;TZID=UTC-3:20181004T200000
DTEND;TZID=UTC-3:20181004T200000
DTSTAMP:20260425T040706
CREATED:20180924T151821Z
LAST-MODIFIED:20180924T151821Z
UID:53213-1538683200-1538683200@www.godoycruz.sisargentina.com
SUMMARY:Encuentro Provincial de Danzas
DESCRIPTION:[vc_row][vc_column][vc_column_text]Actuación de ballets municipales de distintos departamentos. \nVenta de entradas en boletería del teatro (Colón 27).[/vc_column_text][/vc_column][/vc_row][vc_row][vc_column][vc_single_image image=»53215″ img_size=»full»][/vc_column][/vc_row] \n
URL:https://www.godoycruz.sisargentina.com/evento/encuentro-provincial-danzas/
LOCATION:Colón 27\, Godoy Cruz\, Mendoza\, 5501\, Argentina
ATTACH;FMTTYPE=image/jpeg:https://www.godoycruz.sisargentina.com/wp-content/uploads/2018/09/Gráfica-Ballet.jpg
END:VEVENT
END:VCALENDAR