BEGIN:VCALENDAR
VERSION:2.0
PRODID:-//Godoy Cruz - ECPv4.5.8.1//NONSGML v1.0//EN
CALSCALE:GREGORIAN
METHOD:PUBLISH
X-WR-CALNAME:Godoy Cruz
X-ORIGINAL-URL:https://www.godoycruz.sisargentina.com
X-WR-CALDESC:Events for Godoy Cruz
BEGIN:VEVENT
DTSTART;TZID=UTC-3:20180203T210000
DTEND;TZID=UTC-3:20180203T210000
DTSTAMP:20260425T175800
CREATED:20180117T142737Z
LAST-MODIFIED:20180117T142737Z
UID:46196-1517691600-1517691600@www.godoycruz.sisargentina.com
SUMMARY:Encuentro en las Plazas
DESCRIPTION:[vc_row][vc_column][/vc_column][/vc_row][vc_row][vc_column width=»1/2″][vc_single_image image=»46201″ img_size=»full»][vc_column_text]Clases de danzas folclóricas \nMúsica en vivo: Anabel Molina; Dúo Davila – Giménez \nPlaza Sargento Cabral (Calles Armani y 1º de Mayo)[/vc_column_text][/vc_column][vc_column width=»1/2″][vc_single_image image=»46198″ img_size=»full»][/vc_column][/vc_row][vc_row][vc_column][vc_gmaps link=»#E-8_JTNDaWZyYW1lJTIwc3JjJTNEJTIyaHR0cHMlM0ElMkYlMkZ3d3cuZ29vZ2xlLmNvbSUyRm1hcHMlMkZlbWJlZCUzRnBiJTNEJTIxMW0xOCUyMTFtMTIlMjExbTMlMjExZDMzNDkuMzc0MTA4NDQ4NjQ5JTIxMmQtNjguODU5NDkzODYxNjQyNzglMjEzZC0zMi45MTQ3MTI3Njc2MzgwNCUyMTJtMyUyMTFmMCUyMTJmMCUyMTNmMCUyMTNtMiUyMTFpMTAyNCUyMTJpNzY4JTIxNGYxMy4xJTIxM20zJTIxMW0yJTIxMXMweDk2N2UwOTlkNjMyNGVjYjMlMjUzQTB4NTY1MjBkZjc5NWMxM2VkZCUyMTJzQXJtYW5pJTJCJTI1MjYlMkIxJTJCZGUlMkJNYXlvJTI1MkMlMkJHb2RveSUyQkNydXolMjUyQyUyQk1lbmRvemElMjE1ZTAlMjEzbTIlMjExc2VzLTQxOSUyMTJzYXIlMjE0djE1MTYxOTgxMzk5NzclMjIlMjB3aWR0aCUzRCUyMjQwMCUyMiUyMGhlaWdodCUzRCUyMjMwMCUyMiUyMGZyYW1lYm9yZGVyJTNEJTIyMCUyMiUyMHN0eWxlJTNEJTIyYm9yZGVyJTNBMCUyMiUyMGFsbG93ZnVsbHNjcmVlbiUzRSUzQyUyRmlmcmFtZSUzRQ==»][/vc_column][/vc_row] \n
URL:https://www.godoycruz.sisargentina.com/evento/encuentro-las-plazas/
ATTACH;FMTTYPE=image/jpeg:https://www.godoycruz.sisargentina.com/wp-content/uploads/2018/01/MG_3477-1.jpg
END:VEVENT
END:VCALENDAR