BEGIN:VCALENDAR
VERSION:2.0
PRODID:-//Godoy Cruz - ECPv4.5.8.1//NONSGML v1.0//EN
CALSCALE:GREGORIAN
METHOD:PUBLISH
X-WR-CALNAME:Godoy Cruz
X-ORIGINAL-URL:https://www.godoycruz.sisargentina.com
X-WR-CALDESC:Events for Godoy Cruz
BEGIN:VEVENT
DTSTART;TZID=UTC-3:20180224T210000
DTEND;TZID=UTC-3:20180224T210000
DTSTAMP:20260425T180453
CREATED:20180117T154106Z
LAST-MODIFIED:20180117T154106Z
UID:46212-1519506000-1519506000@www.godoycruz.sisargentina.com
SUMMARY:Encuentro en las Plazas
DESCRIPTION:[vc_row][vc_column][vc_column_text]Clases de danzas folclóricas \nMúsica en vivo: “Arquero Mareador”; “Dúo Requena – Ordoñez” \nPlaza Filiberto Simionato (Calles Chapanay y Villa Mercedes)[/vc_column_text][/vc_column][/vc_row][vc_row][vc_column][vc_single_image image=»46213″ img_size=»full»][/vc_column][/vc_row][vc_row][vc_column][vc_gmaps link=»#E-8_JTNDaWZyYW1lJTIwc3JjJTNEJTIyaHR0cHMlM0ElMkYlMkZ3d3cuZ29vZ2xlLmNvbSUyRm1hcHMlMkZlbWJlZCUzRnBiJTNEJTIxMW0xOCUyMTFtMTIlMjExbTMlMjExZDMzNDkuMjA1Njc1NTAwMDM1JTIxMmQtNjguODgwODIwMjg1MTk5MTUlMjEzZC0zMi45MTkxNjM3ODA5MjkzNSUyMTJtMyUyMTFmMCUyMTJmMCUyMTNmMCUyMTNtMiUyMTFpMTAyNCUyMTJpNzY4JTIxNGYxMy4xJTIxM20zJTIxMW0yJTIxMXMweDk2N2UwOTkyNjdmMmE2YmYlMjUzQTB4ZTJmNjA2NzM2NGNlMGJhMyUyMTJzQ2hhcGFuYXklMkIlMjUyNiUyQk1lcmNlZGVzJTJCVi4lMjUyQyUyQk01NTAxJTJCR29kb3klMkJDcnV6JTI1MkMlMkJNZW5kb3phJTIxNWUwJTIxM20yJTIxMXNlcy00MTklMjEyc2FyJTIxNHYxNTE2MjAzNDY0NjYyJTIyJTIwd2lkdGglM0QlMjI0MDAlMjIlMjBoZWlnaHQlM0QlMjIzMDAlMjIlMjBmcmFtZWJvcmRlciUzRCUyMjAlMjIlMjBzdHlsZSUzRCUyMmJvcmRlciUzQTAlMjIlMjBhbGxvd2Z1bGxzY3JlZW4lM0UlM0MlMkZpZnJhbWUlM0U=»][/vc_column][/vc_row] \n
URL:https://www.godoycruz.sisargentina.com/evento/encuentro-las-plazas-3/
ATTACH;FMTTYPE=image/jpeg:https://www.godoycruz.sisargentina.com/wp-content/uploads/2018/01/MG_3477-1.jpg
END:VEVENT
END:VCALENDAR