BEGIN:VCALENDAR
VERSION:2.0
PRODID:-//Godoy Cruz - ECPv4.5.8.1//NONSGML v1.0//EN
CALSCALE:GREGORIAN
METHOD:PUBLISH
X-WR-CALNAME:Godoy Cruz
X-ORIGINAL-URL:https://www.godoycruz.sisargentina.com
X-WR-CALDESC:Events for Godoy Cruz
BEGIN:VEVENT
DTSTART;TZID=UTC-3:20200222T210000
DTEND;TZID=UTC-3:20200222T210000
DTSTAMP:20260423T160505
CREATED:20200212T173631Z
LAST-MODIFIED:20200212T173631Z
UID:66517-1582405200-1582405200@www.godoycruz.sisargentina.com
SUMMARY:Encuentro Folklórico Tomás Godoy Cruz 2020
DESCRIPTION:[vc_row][vc_column][vc_column_text]Música en vivo: Casiana Torres\, Dúo Oyarzabal- Mansilla\, Marcelino Azaguate\, Küyen. \nAnimación: Los Cumpas.  Participación especial: Ballet Municipal de Godoy Cruz.   \nEntrada libre y gratuita.[/vc_column_text][/vc_column][/vc_row][vc_row][vc_column][vc_single_image image=»66518″ img_size=»full»][/vc_column][/vc_row] \n
URL:https://www.godoycruz.sisargentina.com/evento/encuentro-folklorico-tomas-godoy-cruz-2020/
ATTACH;FMTTYPE=image/jpeg:https://www.godoycruz.sisargentina.com/wp-content/uploads/2020/02/22-encuentro-folk-2020.jpg
END:VEVENT
END:VCALENDAR