BEGIN:VCALENDAR
VERSION:2.0
PRODID:-//Godoy Cruz - ECPv4.5.8.1//NONSGML v1.0//EN
CALSCALE:GREGORIAN
METHOD:PUBLISH
X-WR-CALNAME:Godoy Cruz
X-ORIGINAL-URL:https://www.godoycruz.sisargentina.com
X-WR-CALDESC:Events for Godoy Cruz
BEGIN:VEVENT
DTSTART;TZID=UTC-3:20230616T203000
DTEND;TZID=UTC-3:20230616T203000
DTSTAMP:20260421T081420
CREATED:20230608T145752Z
LAST-MODIFIED:20230608T145752Z
UID:100790-1686947400-1686947400@www.godoycruz.sisargentina.com
SUMMARY:Encuentro Folklórico "Juntando Cuyanías" III Edición
DESCRIPTION:[vc_row][vc_column][vc_column_text]“Juntando Cuyanías” es un ciclo musical que tiene como fin generar un espacio donde fluya la música que se realiza en Cuyo. \nArtistas: \nCeleste Fredes\, junto a Maca Rocha y Paulo Amaya (guitarras) y Lucas Fernández (percusión). \nNolocepa: Mauricio Echevarrieta (voz y guitarrón)\, Javo Lucero y Marco Merlo (guitarras). \nFederico Lepez (guitarra y voz). \nAnticipadas : $1200 (al 2612177679). Taquilla: $1500.[/vc_column_text][/vc_column][/vc_row][vc_row][vc_column][vc_single_image image=»100791″ img_size=»full»][/vc_column][/vc_row] \n
URL:https://www.godoycruz.sisargentina.com/evento/encuentro-folklorico-juntando-cuyanias-iii-edicion/
LOCATION:Tomba 54\, Godoy Cruz\, Mendoza\, 5501\, Argentina
ATTACH;FMTTYPE=image/jpeg:https://www.godoycruz.sisargentina.com/wp-content/uploads/2023/06/WhatsApp-Image-2023-06-07-at-10.37.50-AM.jpeg
END:VEVENT
END:VCALENDAR