BEGIN:VCALENDAR
VERSION:2.0
PRODID:-//Godoy Cruz - ECPv4.5.8.1//NONSGML v1.0//EN
CALSCALE:GREGORIAN
METHOD:PUBLISH
X-WR-CALNAME:Godoy Cruz
X-ORIGINAL-URL:https://www.godoycruz.sisargentina.com
X-WR-CALDESC:Events for Godoy Cruz
BEGIN:VEVENT
DTSTART;TZID=UTC-3:20230218T210000
DTEND;TZID=UTC-3:20230218T210000
DTSTAMP:20260421T144849
CREATED:20230216T170805Z
LAST-MODIFIED:20230216T170805Z
UID:97643-1676754000-1676754000@www.godoycruz.sisargentina.com
SUMMARY:Encuentro Folclórico Tomas Godoy Cruz
DESCRIPTION:[vc_row][vc_column][vc_column_text]Godoy Cruz recibirá a grandes músicos y bailarines para vivir una nueva edición del clásico festival a puro folclore. \nParque San Vicente. \nArtistas: Gabriela Fernandez\, Combinado de malambo «Homenaje a Los Trovadores de Cuyo\, Anabel Molina\, Compañía de Danzas «Siembra»\, La Doble\nFolklore\, Ballet Municipal de Godoy Cruz y cierre con Los Trovadores de Cuyo.[/vc_column_text][/vc_column][/vc_row][vc_row][vc_column][vc_single_image image=»97644″ img_size=»full»][/vc_column][/vc_row] \n
URL:https://www.godoycruz.sisargentina.com/evento/encuentro-folclorico-tomas-godoy-cruz-5/
ATTACH;FMTTYPE=image/jpeg:https://www.godoycruz.sisargentina.com/wp-content/uploads/2023/02/330828149_920665185621734_5546782743783185128_n.jpg
END:VEVENT
END:VCALENDAR