BEGIN:VCALENDAR
VERSION:2.0
PRODID:-//Godoy Cruz - ECPv4.5.8.1//NONSGML v1.0//EN
CALSCALE:GREGORIAN
METHOD:PUBLISH
X-WR-CALNAME:Godoy Cruz
X-ORIGINAL-URL:https://www.godoycruz.sisargentina.com
X-WR-CALDESC:Events for Godoy Cruz
BEGIN:VEVENT
DTSTART;TZID=UTC-3:20240323T213000
DTEND;TZID=UTC-3:20240323T213000
DTSTAMP:20260420T133341
CREATED:20240319T181459Z
LAST-MODIFIED:20240319T181459Z
UID:108365-1711229400-1711229400@www.godoycruz.sisargentina.com
SUMMARY:Encuentro\, Amor y Memoria
DESCRIPTION:[vc_row][vc_column][vc_column_text]Intervenciones artísticas para conmemorar el Día de la Memoria por la Verdad y la Justicia. \nSerá una noche con música\, danza y poesía\, a cargo de reconocidos artistas. \nApertura: “De agua y barro” y Marcela Gandini. \nParticipan: Mudra (San Rafael)\, Alaisla\, Marcos Babar\, Florencia Muriel\, Camila Trotta. \nEntrada gratuita (por orden de llegada).[/vc_column_text][/vc_column][/vc_row][vc_row][vc_column][vc_single_image image=»108366″ img_size=»full»][/vc_column][/vc_row] \n
URL:https://www.godoycruz.sisargentina.com/evento/encuentro-amor-memoria/
ATTACH;FMTTYPE=image/jpeg:https://www.godoycruz.sisargentina.com/wp-content/uploads/2024/03/WhatsApp-Image-2024-03-19-at-12.01.03-PM-1.jpeg
END:VEVENT
END:VCALENDAR