BEGIN:VCALENDAR
VERSION:2.0
PRODID:-//Godoy Cruz - ECPv4.5.8.1//NONSGML v1.0//EN
CALSCALE:GREGORIAN
METHOD:PUBLISH
X-WR-CALNAME:Godoy Cruz
X-ORIGINAL-URL:https://www.godoycruz.sisargentina.com
X-WR-CALDESC:Events for Godoy Cruz
BEGIN:VEVENT
DTSTART;TZID=UTC-3:20171105T213000
DTEND;TZID=UTC-3:20171105T213000
DTSTAMP:20260425T223732
CREATED:20171105T162448Z
LAST-MODIFIED:20171105T162448Z
UID:43753-1509917400-1509917400@www.godoycruz.sisargentina.com
SUMMARY:Elenco Teatro Valiente presenta “Mariquita”
DESCRIPTION:[vc_row][vc_column][vc_column_text]Dirección: María Vilchez Aruani. Protagonitas: Ana Blanc y Ana Macías. \nAdaptación libre del cuento “Mariquita Sánchez”\, de Paula Jimenez. \nFunciones: sábado 4 y domingo 5 de noviembre.[/vc_column_text][/vc_column][/vc_row][vc_row][vc_column][vc_single_image image=»43754″ img_size=»full»][/vc_column][/vc_row] \n
URL:https://www.godoycruz.sisargentina.com/evento/elenco-teatro-valiente-presenta-mariquita/
LOCATION:Tomba 54\, Godoy Cruz\, Mendoza\, 5501\, Argentina
ATTACH;FMTTYPE=image/jpeg:https://www.godoycruz.sisargentina.com/wp-content/uploads/2017/11/Mariquita.jpeg
END:VEVENT
END:VCALENDAR