BEGIN:VCALENDAR
VERSION:2.0
PRODID:-//Godoy Cruz - ECPv4.5.8.1//NONSGML v1.0//EN
CALSCALE:GREGORIAN
METHOD:PUBLISH
X-WR-CALNAME:Godoy Cruz
X-ORIGINAL-URL:https://www.godoycruz.sisargentina.com
X-WR-CALDESC:Events for Godoy Cruz
BEGIN:VEVENT
DTSTART;TZID=UTC-3:20170804T213000
DTEND;TZID=UTC-3:20170804T213000
DTSTAMP:20260426T025505
CREATED:20170802T164058Z
LAST-MODIFIED:20170802T193642Z
UID:949-1501882200-1501882200@www.godoycruz.sisargentina.com
SUMMARY:El violinista Manick Nur llega a la B+M
DESCRIPTION:[vc_row][vc_column][vc_single_image image=»941″ img_size=»full»][/vc_column][/vc_row] \n
URL:https://www.godoycruz.sisargentina.com/evento/el-violinista-manick-nur-llega-a-la-bm/
LOCATION:Tomba 54\, Godoy Cruz\, Mendoza\, 5501\, Argentina
ATTACH;FMTTYPE=image/jpeg:https://www.godoycruz.sisargentina.com/wp-content/uploads/2017/08/Manik-2.jpg
END:VEVENT
END:VCALENDAR